BEGIN:VCALENDAR
VERSION:2.0
PRODID:-//SwissGlam.ch - ECPv6.15.17.1//NONSGML v1.0//EN
CALSCALE:GREGORIAN
METHOD:PUBLISH
X-WR-CALNAME:SwissGlam.ch
X-ORIGINAL-URL:https://www.swissglam.ch
X-WR-CALDESC:Events for SwissGlam.ch
REFRESH-INTERVAL;VALUE=DURATION:PT1H
X-Robots-Tag:noindex
X-PUBLISHED-TTL:PT1H
BEGIN:VTIMEZONE
TZID:Europe/Zurich
BEGIN:DAYLIGHT
TZOFFSETFROM:+0100
TZOFFSETTO:+0200
TZNAME:CEST
DTSTART:20220327T010000
END:DAYLIGHT
BEGIN:STANDARD
TZOFFSETFROM:+0200
TZOFFSETTO:+0100
TZNAME:CET
DTSTART:20221030T010000
END:STANDARD
BEGIN:DAYLIGHT
TZOFFSETFROM:+0100
TZOFFSETTO:+0200
TZNAME:CEST
DTSTART:20230326T010000
END:DAYLIGHT
BEGIN:STANDARD
TZOFFSETFROM:+0200
TZOFFSETTO:+0100
TZNAME:CET
DTSTART:20231029T010000
END:STANDARD
BEGIN:DAYLIGHT
TZOFFSETFROM:+0100
TZOFFSETTO:+0200
TZNAME:CEST
DTSTART:20240331T010000
END:DAYLIGHT
BEGIN:STANDARD
TZOFFSETFROM:+0200
TZOFFSETTO:+0100
TZNAME:CET
DTSTART:20241027T010000
END:STANDARD
BEGIN:DAYLIGHT
TZOFFSETFROM:+0100
TZOFFSETTO:+0200
TZNAME:CEST
DTSTART:20250330T010000
END:DAYLIGHT
BEGIN:STANDARD
TZOFFSETFROM:+0200
TZOFFSETTO:+0100
TZNAME:CET
DTSTART:20251026T010000
END:STANDARD
BEGIN:DAYLIGHT
TZOFFSETFROM:+0100
TZOFFSETTO:+0200
TZNAME:CEST
DTSTART:20260329T010000
END:DAYLIGHT
BEGIN:STANDARD
TZOFFSETFROM:+0200
TZOFFSETTO:+0100
TZNAME:CET
DTSTART:20261025T010000
END:STANDARD
END:VTIMEZONE
BEGIN:VEVENT
DTSTART;VALUE=DATE:20250321
DTEND;VALUE=DATE:20250323
DTSTAMP:20260424T142025
CREATED:20241014T210828Z
LAST-MODIFIED:20241014T210828Z
UID:33975-1742515200-1742687999@www.swissglam.ch
SUMMARY:Gavin James Zurich
DESCRIPTION:
URL:https://www.swissglam.ch/events-tickets/gavin-james-zurich/
LOCATION:Komplex 457\, Hohlstrasse 457\, Zurich\, 8048\, Switzerland
CATEGORIES:Concerts
ATTACH;FMTTYPE=image/png:https://www.swissglam.ch/wp-content/uploads/2024/10/Screenshot-2024-10-14-at-23.06.24.png
END:VEVENT
BEGIN:VEVENT
DTSTART;TZID=Europe/Zurich:20250317T190000
DTEND;TZID=Europe/Zurich:20250317T223000
DTSTAMP:20260424T142025
CREATED:20250218T224812Z
LAST-MODIFIED:20250218T224812Z
UID:35278-1742238000-1742250600@www.swissglam.ch
SUMMARY:Wincent Weiss Zurich - Arena Tour 2025
DESCRIPTION:
URL:https://www.swissglam.ch/events-tickets/wincent-weiss-zurich-arena-tour-2025/
LOCATION:Zürich Hallenstadion\, Wallisellenstrasse 45\, Zürich\, Zürich\, 8050\, Switzerland
CATEGORIES:Concerts
ATTACH;FMTTYPE=image/png:https://www.swissglam.ch/wp-content/uploads/2025/02/Screenshot-2025-02-18-at-23.46.44.png
END:VEVENT
BEGIN:VEVENT
DTSTART;TZID=Europe/Zurich:20250316T200000
DTEND;TZID=Europe/Zurich:20250316T223000
DTSTAMP:20260424T142025
CREATED:20250218T231351Z
LAST-MODIFIED:20250218T231351Z
UID:35298-1742155200-1742164200@www.swissglam.ch
SUMMARY:Tokio Hotel Zürich 2025
DESCRIPTION:
URL:https://www.swissglam.ch/events-tickets/tokio-hotel-zurich-2025/
LOCATION:Halle 622\, Therese-Giehse-Strasse 10 \, Zürich\, ZH\, 8050\, Switzerland
CATEGORIES:Concerts
ATTACH;FMTTYPE=image/png:https://www.swissglam.ch/wp-content/uploads/2025/02/Screenshot-2025-02-19-at-00.12.29.png
END:VEVENT
BEGIN:VEVENT
DTSTART;TZID=Europe/Zurich:20250225T193000
DTEND;TZID=Europe/Zurich:20250225T230000
DTSTAMP:20260424T142025
CREATED:20241014T205243Z
LAST-MODIFIED:20241014T205243Z
UID:33969-1740511800-1740524400@www.swissglam.ch
SUMMARY:Teddy Swims Zurich
DESCRIPTION:
URL:https://www.swissglam.ch/events-tickets/teddy-swims-zurich/
LOCATION:Hallenstadion\, Wallisellenstrasse 45 \, Zürich\, Zurich\, 8050\, Switzerland
CATEGORIES:Concerts
ATTACH;FMTTYPE=image/png:https://www.swissglam.ch/wp-content/uploads/2024/10/Screenshot-2024-10-14-at-22.50.33.png
END:VEVENT
BEGIN:VEVENT
DTSTART;TZID=Europe/Zurich:20241122T193000
DTEND;TZID=Europe/Zurich:20241122T223000
DTSTAMP:20260424T142025
CREATED:20231223T213853Z
LAST-MODIFIED:20231223T213853Z
UID:31051-1732303800-1732314600@www.swissglam.ch
SUMMARY:Andre Rieu 2024
DESCRIPTION:
URL:https://www.swissglam.ch/events-tickets/andre-rieu-2024/
LOCATION:Zürich Hallenstadion\, Wallisellenstrasse 45\, Zürich\, Zürich\, 8050\, Switzerland
CATEGORIES:Concerts,Music
ATTACH;FMTTYPE=image/png:https://www.swissglam.ch/wp-content/uploads/2023/12/Screenshot-2023-12-23-at-22.37.11.png
END:VEVENT
BEGIN:VEVENT
DTSTART;TZID=Europe/Zurich:20241110T190000
DTEND;TZID=Europe/Zurich:20241110T230000
DTSTAMP:20260424T142025
CREATED:20240517T211011Z
LAST-MODIFIED:20240517T211011Z
UID:32397-1731265200-1731279600@www.swissglam.ch
SUMMARY:Roberto Bolle & Friends
DESCRIPTION:For those passionate about ballet\, a Gala is an incredibly exciting event.\nThese followers go to see their stars for their virtuosity\, their charisma\, and the sheer excitement of being part of such a breathtaking experience.
URL:https://www.swissglam.ch/events-tickets/roberto-bolle-friends/
LOCATION:Theater 11\, Thurgauerstrasse 7\, Zurich\, ZH\, 8050\, Switzerland
CATEGORIES:Concerts,Dance
ATTACH;FMTTYPE=image/png:https://www.swissglam.ch/wp-content/uploads/2024/05/Screenshot-2024-05-17-at-23.06.23.png
END:VEVENT
BEGIN:VEVENT
DTSTART;TZID=Europe/Zurich:20241110T190000
DTEND;TZID=Europe/Zurich:20241110T220000
DTSTAMP:20260424T142025
CREATED:20240223T202750Z
LAST-MODIFIED:20240223T202750Z
UID:31654-1731265200-1731276000@www.swissglam.ch
SUMMARY:Bryan Adams
DESCRIPTION:
URL:https://www.swissglam.ch/events-tickets/bryan-adams/
LOCATION:St. Jakobshalle\, Brüglingerstr. 19-21\, Basel\, Basel\, 4052\, Switzerland
CATEGORIES:Concerts
ATTACH;FMTTYPE=image/png:https://www.swissglam.ch/wp-content/uploads/2024/02/Screenshot-2024-02-23-at-21.23.22.png
END:VEVENT
BEGIN:VEVENT
DTSTART;TZID=Europe/Zurich:20241105T200000
DTEND;TZID=Europe/Zurich:20241105T220000
DTSTAMP:20260424T142025
CREATED:20241031T085137Z
LAST-MODIFIED:20241031T085137Z
UID:34184-1730836800-1730844000@www.swissglam.ch
SUMMARY:Tom Walker Zurich
DESCRIPTION:
URL:https://www.swissglam.ch/events-tickets/tom-walker-zurich/
LOCATION:Komplex 457\, Hohlstrasse 457\, Zurich\, 8048\, Switzerland
CATEGORIES:Concerts
ATTACH;FMTTYPE=image/jpeg:https://www.swissglam.ch/wp-content/uploads/2024/10/7153c0cd-72ea-40da-9a9e-a6e69006972e_CUSTOM.jpg
END:VEVENT
BEGIN:VEVENT
DTSTART;VALUE=DATE:20241017
DTEND;VALUE=DATE:20241109
DTSTAMP:20260424T142025
CREATED:20240724T104430Z
LAST-MODIFIED:20240724T104430Z
UID:33029-1729123200-1731110399@www.swissglam.ch
SUMMARY:Baloise Session 2024
DESCRIPTION:Experience stars up close in an intimate club table atmosphere with candlelight. 💙 From 17 Oct to 8 Nov 24 in Basel 🇨🇭
URL:https://www.swissglam.ch/events-tickets/baloise-session-2024/
LOCATION:Zürich
CATEGORIES:Concerts
ATTACH;FMTTYPE=image/jpeg:https://www.swissglam.ch/wp-content/uploads/2024/07/401419380_874352770738639_4910173895340208040_n.jpg
END:VEVENT
BEGIN:VEVENT
DTSTART;TZID=Europe/Zurich:20241005T200000
DTEND;TZID=Europe/Zurich:20241005T220000
DTSTAMP:20260424T142025
CREATED:20240907T163012Z
LAST-MODIFIED:20240907T163012Z
UID:33673-1728158400-1728165600@www.swissglam.ch
SUMMARY:International Film Music Competition 2024
DESCRIPTION:Tonhalle-Orchester Zürich\nFrank Strobel Leitung\nSandra Studer Moderation \nHoward Shore Jury-Präsident \n\nCinema in Concert\nNicolas Rabaeus Suisa Act Suite\, Musik aus «Le milieu de l’horizon»\, «The Land Within»\, «Belle comme un cœur» (angepasste Orchestrierung Olav Lervik)\nInternationaler Filmmusikwettbewerb mit den Finalisten Krzysztof Dobosiewicz\, Théo Schmitt und Ahmed Soroko zum Kurzfilm «The Flying Sailor»\nPauseHoward Shore Auszüge aus «Das Schweigen der Lämmer»\, «Philadelphia»\, «The Aviator»\, «Der Herr der Ringe»\, «The Fly» u.a.\nPause\nPreise CHF 110 / 90 / 70 / 50 / 30\nIn Zusammenarbeit mit dem Zurich Film Festival\, dem Forum Filmmusik und der Europäische FilmPhilharmonie
URL:https://www.swissglam.ch/events-tickets/international-film-music-competition-2024/
LOCATION:Tonhalle Zürich\, Claridenstrasse 7\, Zurich\, 8002\, Switzerland
CATEGORIES:Concerts
ATTACH;FMTTYPE=image/png:https://www.swissglam.ch/wp-content/uploads/2024/09/Screenshot-2024-09-07-at-18.27.09.png
END:VEVENT
BEGIN:VEVENT
DTSTART;TZID=Europe/Zurich:20240929T200000
DTEND;TZID=Europe/Zurich:20240929T220000
DTSTAMP:20260424T142025
CREATED:20240809T064305Z
LAST-MODIFIED:20240809T064305Z
UID:33061-1727640000-1727647200@www.swissglam.ch
SUMMARY:Jonas Brothers Zurich
DESCRIPTION:Jonas Brothers: FIVE ALBUMS. ONE NIGHT
URL:https://www.swissglam.ch/events-tickets/jonas-brothers-zurich/
LOCATION:Zürich Hallenstadion\, Wallisellenstrasse 45\, Zürich\, Zürich\, 8050\, Switzerland
CATEGORIES:Concerts
ATTACH;FMTTYPE=image/png:https://www.swissglam.ch/wp-content/uploads/2024/08/Screenshot-2024-08-09-at-08.42.08.png
END:VEVENT
BEGIN:VEVENT
DTSTART;VALUE=DATE:20240813
DTEND;VALUE=DATE:20240916
DTSTAMP:20260424T142025
CREATED:20240629T150244Z
LAST-MODIFIED:20240629T150244Z
UID:32737-1723507200-1726444799@www.swissglam.ch
SUMMARY:Lucerne Festival Summer 2024
DESCRIPTION:Lucerne is the place to witness top-tier music: for the past 75-plus years LUCERNE FESTIVAL in Summer has been presenting famous orchestras\, legendary conductors and celebrated soloists. Featuring a different theme each year\, the programme offers a wonderfully broad spectrum ranging from Mozart to the Modernists\, from early music to avant-garde experimentation. Enjoy unforgettable musical offerings far removed from the hustle and bustle of daily life! \nProgramm is here
URL:https://www.swissglam.ch/events-tickets/lucerne-festival-summer-2024/
LOCATION:KKL Luzern\, Europaplatz 1   \, Luzern\, Luzern\, 6005\, Switzerland
CATEGORIES:Concerts,Music
ATTACH;FMTTYPE=image/png:https://www.swissglam.ch/wp-content/uploads/2024/06/Screenshot-2024-06-29-at-17.01.08.png
END:VEVENT
BEGIN:VEVENT
DTSTART;VALUE=DATE:20240723
DTEND;VALUE=DATE:20240805
DTSTAMP:20260424T142025
CREATED:20240723T174424Z
LAST-MODIFIED:20240723T174424Z
UID:33026-1721692800-1722815999@www.swissglam.ch
SUMMARY:Verbier Festival 2024
DESCRIPTION:The Verbier Festival is an internationally renowned classical music event in Verbier\, Switzerland
URL:https://www.swissglam.ch/events-tickets/verbier-festival-2024/
LOCATION:Zürich
CATEGORIES:Concerts
ATTACH;FMTTYPE=image/png:https://www.swissglam.ch/wp-content/uploads/2024/07/Screenshot-2024-07-23-at-19.42.13.png
END:VEVENT
BEGIN:VEVENT
DTSTART;TZID=Europe/Zurich:20240717T200000
DTEND;TZID=Europe/Zurich:20240717T220000
DTSTAMP:20260424T142025
CREATED:20240714T094618Z
LAST-MODIFIED:20240714T094618Z
UID:32931-1721246400-1721253600@www.swissglam.ch
SUMMARY:Kiefer Sutherland Zurich
DESCRIPTION:
URL:https://www.swissglam.ch/events-tickets/kiefer-sutherland-zurich/
LOCATION:Kaufleuten Club\, Pelikanstrasse 18\, Zurich\, 8001\, Switzerland
CATEGORIES:Concerts,Music
ATTACH;FMTTYPE=image/png:https://www.swissglam.ch/wp-content/uploads/2024/07/Screenshot-2024-07-14-at-11.45.11.png
END:VEVENT
BEGIN:VEVENT
DTSTART;TZID=Europe/Zurich:20240703T180000
DTEND;TZID=Europe/Zurich:20240703T220000
DTSTAMP:20260424T142025
CREATED:20231123T230625Z
LAST-MODIFIED:20231123T230625Z
UID:30494-1720029600-1720044000@www.swissglam.ch
SUMMARY:P!NK Summer Carnival - Tour 2024
DESCRIPTION:
URL:https://www.swissglam.ch/events-tickets/pnk-summer-carnival-tour-2024/
LOCATION:Wankdorf Stadium\, Papiermühlestrasse 71\, Bern\, 3014
CATEGORIES:Concerts
ATTACH;FMTTYPE=image/png:https://www.swissglam.ch/wp-content/uploads/2023/11/Screenshot-2023-11-24-at-00.04.14.png
END:VEVENT
BEGIN:VEVENT
DTSTART;TZID=Europe/Zurich:20240601T200000
DTEND;TZID=Europe/Zurich:20240601T223000
DTSTAMP:20260424T142025
CREATED:20231211T215239Z
LAST-MODIFIED:20231211T215239Z
UID:30871-1717272000-1717281000@www.swissglam.ch
SUMMARY:Nickelback: Get Rollin Tour
DESCRIPTION:
URL:https://www.swissglam.ch/events-tickets/nickelback-get-rollin-tour/
LOCATION:Zürich Hallenstadion\, Wallisellenstrasse 45\, Zürich\, Zürich\, 8050\, Switzerland
CATEGORIES:Concerts,Music
ATTACH;FMTTYPE=image/png:https://www.swissglam.ch/wp-content/uploads/2023/12/Screenshot-2023-12-11-at-22.52.06.png
END:VEVENT
BEGIN:VEVENT
DTSTART;VALUE=DATE:20240518
DTEND;VALUE=DATE:20240728
DTSTAMP:20260424T142025
CREATED:20240504T095446Z
LAST-MODIFIED:20240504T095446Z
UID:32249-1715990400-1722124799@www.swissglam.ch
SUMMARY:Andermatt Music Saison 2024
DESCRIPTION:ANDERMATT MUSIC is the concert organiser of the Gotthard region\, bringing music to the highest-lying concert venue in Switzerland\, the Andermatt Concert Hall.
URL:https://www.swissglam.ch/events-tickets/andermatt-music-saison-2024/
LOCATION:Andermatt\, 6490\, Switzerland
CATEGORIES:Concerts,Music
ATTACH;FMTTYPE=image/png:https://www.swissglam.ch/wp-content/uploads/2024/05/Screenshot-2024-05-04-at-11.53.24.png
END:VEVENT
BEGIN:VEVENT
DTSTART;VALUE=DATE:20240502
DTEND;VALUE=DATE:20240504
DTSTAMP:20260424T142025
CREATED:20240319T124354Z
LAST-MODIFIED:20240319T124354Z
UID:31899-1714608000-1714780799@www.swissglam.ch
SUMMARY:THE SOUND OF JAMES BOND
DESCRIPTION:ARTISTS:\n\n21st Century Orchestra\nTertia Botha – Gesang\nDennis LeGree – Gesang\nLudwig Wicki – Leitung\nDietmar Wunder – Moderation\n\n\n\n\nINFO:\n\nThe Sound of James Bond\nLicenced to Thrill \nEverything about James Bond is spectacular: the strong women\, the fast cars\, the breathtaking stunts and the wild chases. And the music of the James Bond films is always spectacular\, too. There is the unique title melody that has accompanied all 25 Bond films since “Dr. No”. And like the license to kill and the vodka martini\, the unmistakable theme song is part of every new 007 thriller. Legendary are the classics by Shirley Bassey\, Louis Armstrong\, Tina Turner\, Adele and many other top-class artists. \nThe 21st Century Orchestra\, vocal soloists and a band bring the legendary soundtracks of “Goldfinger\, “GoldenEye\,” “Skyfall\,” “No Time To Die” and many more to the concert hall. \nConcert performance\, without screen
URL:https://www.swissglam.ch/events-tickets/the-sound-of-james-bond/
LOCATION:KKL Luzern\, Europaplatz 1   \, Luzern\, Luzern\, 6005\, Switzerland
CATEGORIES:Concerts,Music
ATTACH;FMTTYPE=image/png:https://www.swissglam.ch/wp-content/uploads/2024/03/Screenshot-2024-03-19-at-13.40.57.png
END:VEVENT
BEGIN:VEVENT
DTSTART;TZID=Europe/Zurich:20240329T200000
DTEND;TZID=Europe/Zurich:20240329T220000
DTSTAMP:20260424T142025
CREATED:20231015T085053Z
LAST-MODIFIED:20231015T085053Z
UID:30104-1711742400-1711749600@www.swissglam.ch
SUMMARY:Jason Derulo Zurich
DESCRIPTION:
URL:https://www.swissglam.ch/events-tickets/jason-derulo-zurich/
LOCATION:Hallenstadion\, Wallisellenstrasse 45 \, Zürich\, Zurich\, 8050\, Switzerland
CATEGORIES:Concerts
ATTACH;FMTTYPE=image/png:https://www.swissglam.ch/wp-content/uploads/2023/10/Screenshot-2023-10-15-at-10.48.53.png
END:VEVENT
BEGIN:VEVENT
DTSTART;TZID=Europe/Zurich:20240321T200000
DTEND;TZID=Europe/Zurich:20240321T223000
DTSTAMP:20260424T142025
CREATED:20231015T085340Z
LAST-MODIFIED:20231015T085340Z
UID:30107-1711051200-1711060200@www.swissglam.ch
SUMMARY:Parov Stelar - Theater Tour Zurich
DESCRIPTION:
URL:https://www.swissglam.ch/events-tickets/parov-stelar-theater-tour-zurich/
LOCATION:Club X-TRA\, Limmatstrasse 118\, Zurich\, 8031\, Switzerland
CATEGORIES:Concerts,Music
ATTACH;FMTTYPE=image/png:https://www.swissglam.ch/wp-content/uploads/2023/10/Screenshot-2023-10-15-at-10.51.13.png
END:VEVENT
BEGIN:VEVENT
DTSTART;TZID=Europe/Zurich:20240315T220000
DTEND;TZID=Europe/Zurich:20240315T233000
DTSTAMP:20260424T142025
CREATED:20231223T221325Z
LAST-MODIFIED:20231223T221325Z
UID:31070-1710540000-1710545400@www.swissglam.ch
SUMMARY:TonhalleLATE 2024
DESCRIPTION:A magical evening with classical music and club sounds. This encounter between two musical worlds will offer you a very special concert experience. \nIn the classical section\, the Tonhalle-Orchester Zurich will show what it’s made of\, performing a major work of musical history. Then you’ll experience what happens when classical musicians are confronted with hot live acts – always an adventure for everyone. Thereafter\, the live acts perform\, and towards morning DJs take over until the party ends. \n\n\n\n\n\n\n\n\n\n\n 
URL:https://www.swissglam.ch/events-tickets/tonhallelate-2024/
LOCATION:Tonhalle Zürich\, Claridenstrasse 7\, Zurich\, 8002\, Switzerland
CATEGORIES:Concerts,Music
ATTACH;FMTTYPE=image/png:https://www.swissglam.ch/wp-content/uploads/2023/12/Screenshot-2023-12-23-at-23.12.50.png
END:VEVENT
BEGIN:VEVENT
DTSTART;TZID=Europe/Zurich:20240301T200000
DTEND;TZID=Europe/Zurich:20240301T230000
DTSTAMP:20260424T142025
CREATED:20230911T202437Z
LAST-MODIFIED:20230911T202437Z
UID:29427-1709323200-1709334000@www.swissglam.ch
SUMMARY:James Blunt Zurich 2024
DESCRIPTION:
URL:https://www.swissglam.ch/events-tickets/james-blunt-zurich-2024/
LOCATION:Zürich Hallenstadion\, Wallisellenstrasse 45\, Zürich\, Zürich\, 8050\, Switzerland
CATEGORIES:Concerts,Music
ATTACH;FMTTYPE=image/png:https://www.swissglam.ch/wp-content/uploads/2023/09/Screenshot-2023-09-11-at-22.21.39.png
END:VEVENT
BEGIN:VEVENT
DTSTART;VALUE=DATE:20240120
DTEND;VALUE=DATE:20240129
DTSTAMP:20260424T142025
CREATED:20231223T201501Z
LAST-MODIFIED:20231223T201501Z
UID:31035-1705708800-1706486399@www.swissglam.ch
SUMMARY:Festival International de Ballons Château-d’Œx 2024
DESCRIPTION:As the alpine capital of hot air ballooning\, Château-d’Œx has been welcoming balloons from around the world for over 40 years now. The colourful festival takes place over 9 days and includes night shows\, balloon flights\, sporting competitions and a children’s day.
URL:https://www.swissglam.ch/events-tickets/festival-international-de-ballons-chateau-doex-2024/
LOCATION:Château-d’Oex\, Place du Village 6\, Château-d'Oex\, 1660\, Switzerland
CATEGORIES:Concerts
ATTACH;FMTTYPE=image/png:https://www.swissglam.ch/wp-content/uploads/2023/12/Screenshot-2023-12-23-at-21.13.09.png
END:VEVENT
BEGIN:VEVENT
DTSTART;VALUE=DATE:20231123
DTEND;VALUE=DATE:20231211
DTSTAMP:20260424T142025
CREATED:20231123T161226Z
LAST-MODIFIED:20231123T224921Z
UID:30446-1700697600-1702252799@www.swissglam.ch
SUMMARY:Zauberpark 2023
DESCRIPTION:Experience a varied music program\, fascinating light art and culinary delights in the Magic Park at Zurich Airport. \nFor 18 days\, the airport park in the Circle will be transformed into a magical world and offer you enchanting experiences: Every day\, we welcome musicians from a wide variety of genres as well as children’s acts on the big stage. Light installations along the panorama trail are waiting to be discovered. \nYou will find various delicacies and warming drinks in the Genussdorf.
URL:https://www.swissglam.ch/events-tickets/zauberpark-2023/
LOCATION:Zürich
CATEGORIES:Concerts
ATTACH;FMTTYPE=image/png:https://www.swissglam.ch/wp-content/uploads/2023/11/Screenshot-2023-11-23-at-17.09.30.png
END:VEVENT
BEGIN:VEVENT
DTSTART;VALUE=DATE:20231123
DTEND;VALUE=DATE:20231224
DTSTAMP:20260424T142025
CREATED:20231014T113832Z
LAST-MODIFIED:20231014T113832Z
UID:30080-1700697600-1703375999@www.swissglam.ch
SUMMARY:Singing Christmas Tree Zurich
DESCRIPTION:Choir Performances\nMonday to Friday\, 5.30pm\,  6.30pm\nSaturday & Sunday\, 2.30pm\, 3.30pm\, 5.30pm & 6.30pm (sometimes also at 8.00pm)
URL:https://www.swissglam.ch/events-tickets/singing-christmas-tree-zurich/
LOCATION:Werdmühleplatz\, Werdmühleplatz\, Zurich \, 8001\, Switzerland
CATEGORIES:Concerts,Culture
ATTACH;FMTTYPE=image/png:https://www.swissglam.ch/wp-content/uploads/2023/10/Screenshot-2023-10-14-at-13.37.13.png
END:VEVENT
BEGIN:VEVENT
DTSTART;TZID=Europe/Zurich:20231120T200000
DTEND;TZID=Europe/Zurich:20231120T230000
DTSTAMP:20260424T142025
CREATED:20230120T190346Z
LAST-MODIFIED:20230120T190459Z
UID:26101-1700510400-1700521200@www.swissglam.ch
SUMMARY:Andrea Bocelli Zurich
DESCRIPTION:
URL:https://www.swissglam.ch/events-tickets/andrea-bocelli/
LOCATION:Hallenstadion\, Wallisellenstrasse 45 \, Zürich\, Zurich\, 8050\, Switzerland
CATEGORIES:Concerts,Music
ATTACH;FMTTYPE=image/png:https://www.swissglam.ch/wp-content/uploads/2023/01/Screenshot-2023-01-20-at-20.04.19.png
END:VEVENT
BEGIN:VEVENT
DTSTART;TZID=Europe/Zurich:20231109T200000
DTEND;TZID=Europe/Zurich:20231109T230000
DTSTAMP:20260424T142025
CREATED:20230911T204412Z
LAST-MODIFIED:20230911T204420Z
UID:29437-1699560000-1699570800@www.swissglam.ch
SUMMARY:Tom Gregory & Picture This Zurich
DESCRIPTION:Within just a few years\, Tom Gregory\, a promising young musician\, has become a serious contender for Ed Sheeran’s legacy. Since the two platinum singles “Fingertips” and “Never Let Me Down” from his debut album “Heaven In A World So Cold\,” at the latest\, the Brit from Blackpool has been one of the\nthe stars of pop and electro-oriented songwriting. For as danceable as his songs may be\, they draw their impact very strongly from the fine feeling for melodies that he combines with lyrical sincerity.
URL:https://www.swissglam.ch/events-tickets/tom-gregory-picture-this/
LOCATION:Komplex 457\, Hohlstrasse 457\, Zurich\, 8048\, Switzerland
CATEGORIES:Concerts,Music
ATTACH;FMTTYPE=image/png:https://www.swissglam.ch/wp-content/uploads/2023/09/Screenshot-2023-09-11-at-22.42.37.png
END:VEVENT
BEGIN:VEVENT
DTSTART;VALUE=DATE:20231020
DTEND;VALUE=DATE:20231023
DTSTAMP:20260424T142025
CREATED:20230911T201829Z
LAST-MODIFIED:20230911T201829Z
UID:29424-1697760000-1698019199@www.swissglam.ch
SUMMARY:«Skyfall» - In Concert City Light Symphony Orchestra
DESCRIPTION:“Skyfall” – in Concert\, the second installment of the James Bond Concert Series\, was produced by Film Concerts Live! in association with EON Productions and Metro Goldwyn Mayer (MGM) Studios.
URL:https://www.swissglam.ch/events-tickets/skyfall-in-concert-city-light-symphony-orchestra/
LOCATION:KKL Luzern\, Europaplatz 1   \, Luzern\, Luzern\, 6005\, Switzerland
CATEGORIES:Cinema,Concerts,Music
ATTACH;FMTTYPE=image/png:https://www.swissglam.ch/wp-content/uploads/2023/09/Screenshot-2023-09-11-at-22.15.47.png
END:VEVENT
BEGIN:VEVENT
DTSTART;TZID=Europe/Zurich:20230930T190000
DTEND;TZID=Europe/Zurich:20230930T220000
DTSTAMP:20260424T142025
CREATED:20230423T095552Z
LAST-MODIFIED:20230423T095552Z
UID:27107-1696100400-1696111200@www.swissglam.ch
SUMMARY:11th International Film Music Competition
DESCRIPTION:The 11th International Film Music Competition will take place during the 19th Zurich Film Festival (28 September – 8 October 2023) and is organised by Zurich Film Festival\, Tonhalle-Gesellschaft Zürich AG\, and Forum Filmmusik. Participants are invited to score the 7‑minute short film AU REVOIR JÉRÔME! by Chloé Farr\, Gabrielle Selnet und Adam Sillard for symphony orchestra.
URL:https://www.swissglam.ch/events-tickets/11th-international-film-music-competition/
LOCATION:Tonhalle Zürich\, Claridenstrasse 7\, Zurich\, 8002\, Switzerland
CATEGORIES:Cinema,Concerts,Music
ATTACH;FMTTYPE=image/png:https://www.swissglam.ch/wp-content/uploads/2023/04/Screenshot-2023-04-23-at-11.48.17.png
END:VEVENT
BEGIN:VEVENT
DTSTART;VALUE=DATE:20230808
DTEND;VALUE=DATE:20230911
DTSTAMP:20260424T142025
CREATED:20230814T115853Z
LAST-MODIFIED:20230814T115853Z
UID:28847-1691452800-1694390399@www.swissglam.ch
SUMMARY:Lucerne Summer Festival
DESCRIPTION:International classical music stars in the heart of Switzerland.  Up next: Summer Festival “Paradise” 🍎 08.08 – 10.09.2023
URL:https://www.swissglam.ch/events-tickets/lucerne-summer-festival/
LOCATION:KKL Luzern\, Europaplatz 1   \, Luzern\, Luzern\, 6005\, Switzerland
CATEGORIES:Concerts,Music
ATTACH;FMTTYPE=image/jpeg:https://www.swissglam.ch/wp-content/uploads/2023/08/347096445_971435380956499_2882496401019478026_n.jpg
END:VEVENT
END:VCALENDAR