BEGIN:VCALENDAR
VERSION:2.0
PRODID:-//SwissGlam.ch - ECPv6.15.17.1//NONSGML v1.0//EN
CALSCALE:GREGORIAN
METHOD:PUBLISH
X-WR-CALNAME:SwissGlam.ch
X-ORIGINAL-URL:https://www.swissglam.ch
X-WR-CALDESC:Events for SwissGlam.ch
REFRESH-INTERVAL;VALUE=DURATION:PT1H
X-Robots-Tag:noindex
X-PUBLISHED-TTL:PT1H
BEGIN:VTIMEZONE
TZID:Europe/Zurich
BEGIN:DAYLIGHT
TZOFFSETFROM:+0100
TZOFFSETTO:+0200
TZNAME:CEST
DTSTART:20230326T010000
END:DAYLIGHT
BEGIN:STANDARD
TZOFFSETFROM:+0200
TZOFFSETTO:+0100
TZNAME:CET
DTSTART:20231029T010000
END:STANDARD
BEGIN:DAYLIGHT
TZOFFSETFROM:+0100
TZOFFSETTO:+0200
TZNAME:CEST
DTSTART:20240331T010000
END:DAYLIGHT
BEGIN:STANDARD
TZOFFSETFROM:+0200
TZOFFSETTO:+0100
TZNAME:CET
DTSTART:20241027T010000
END:STANDARD
BEGIN:DAYLIGHT
TZOFFSETFROM:+0100
TZOFFSETTO:+0200
TZNAME:CEST
DTSTART:20250330T010000
END:DAYLIGHT
BEGIN:STANDARD
TZOFFSETFROM:+0200
TZOFFSETTO:+0100
TZNAME:CET
DTSTART:20251026T010000
END:STANDARD
BEGIN:DAYLIGHT
TZOFFSETFROM:+0100
TZOFFSETTO:+0200
TZNAME:CEST
DTSTART:20260329T010000
END:DAYLIGHT
BEGIN:STANDARD
TZOFFSETFROM:+0200
TZOFFSETTO:+0100
TZNAME:CET
DTSTART:20261025T010000
END:STANDARD
BEGIN:DAYLIGHT
TZOFFSETFROM:+0100
TZOFFSETTO:+0200
TZNAME:CEST
DTSTART:20270328T010000
END:DAYLIGHT
BEGIN:STANDARD
TZOFFSETFROM:+0200
TZOFFSETTO:+0100
TZNAME:CET
DTSTART:20271031T010000
END:STANDARD
END:VTIMEZONE
BEGIN:VEVENT
DTSTART;TZID=Europe/Zurich:20260420T100000
DTEND;TZID=Europe/Zurich:20260420T220000
DTSTAMP:20260422T062906
CREATED:20260330T095355Z
LAST-MODIFIED:20260330T095355Z
UID:39355-1776679200-1776722400@www.swissglam.ch
SUMMARY:Sechseläuten 2026
DESCRIPTION:Around 3\,500 guild members in their colorful costumes\, traditional dress\, and uniforms\, more than 350 riders\, around 50 horse-drawn carriages\, and nearly 30 marching bands parade along Bahnhofstrasse and Limmatquai on Sechseläuten Monday toward Sechseläutenplatz\, where the burning of the Böögg takes place. \n\n\n\n\n\n\n\n\n\n\n\n\n\n\nThe procession to the bonfire is a spectacular large-scale event that attracts tens of thousands of spectators to the city of Zurich each year\, as well as hundreds of thousands more watching on television.
URL:https://www.swissglam.ch/events-tickets/sechselauten-2026/
LOCATION:Bellevue Zurich\, Sechseläutenplatz\, Zürich\, ZH\, 8001\, Switzerland
CATEGORIES:Culture
ATTACH;FMTTYPE=image/jpeg:https://www.swissglam.ch/wp-content/uploads/2026/03/logo-sechselaueten-100.jpeg
END:VEVENT
BEGIN:VEVENT
DTSTART;VALUE=DATE:20260131
DTEND;VALUE=DATE:20260211
DTSTAMP:20260422T062906
CREATED:20251225T140312Z
LAST-MODIFIED:20251225T140335Z
UID:38590-1769817600-1770767999@www.swissglam.ch
SUMMARY:Venice Carnival 2026
DESCRIPTION:The Venice Carnival 2026\, scheduled from January 31st to February 17th 2026\, celebrates the Olympics with a theme that intertwines history\, art\, and sport\, paying tribute to the universal themes of play and challenge.
URL:https://www.swissglam.ch/events-tickets/venice-carnival-2026/
LOCATION:Venice\, 30100\, Italy
CATEGORIES:Culture
ATTACH;FMTTYPE=image/jpeg:https://www.swissglam.ch/wp-content/uploads/2025/12/598527875_1437301384425895_1379543373678691205_n.jpg
END:VEVENT
BEGIN:VEVENT
DTSTART;TZID=Europe/Zurich:20260124T180000
DTEND;TZID=Europe/Zurich:20260124T233000
DTSTAMP:20260422T062906
CREATED:20251027T100729Z
LAST-MODIFIED:20251027T100729Z
UID:37900-1769277600-1769297400@www.swissglam.ch
SUMMARY:tonhalleNIGHT 2026
DESCRIPTION:TonhalleNIGHT is a fundraising event organised by the Freundeskreis Tonhalle-Orchester Zürich\, and this year we will be exploring the history of film music. \n\n\n\n\n\n\n\n\n\n\n“A long time ago\, in a galaxy far\, far away …” – No! On 24 January 2026 and very close by\, there will be an event at which you will hear\, among other things\, the legendary film music from “Star Wars”. Film music is the theme of our tonhalleNIGHT\, and it not only shapes the concert programme conducted by our Music Director Paavo Järvi. The Tonhalle Zürich will be transformed into a glamorously decorated backdrop\, and the culinary delights will include popcorn. \nAll that’s missing now are the protagonists\, i.e. you: celebrate with us\, enjoy the music and the encounters! We promise you: you will remember this tonhalleNIGHT for a long\, long time to come .. \nThe proceeds from tonhalleNIGHT will benefit our 2027 Beethoven Festival. \nOnce again this year\, we look forward to welcoming both dinner guests and strolling guests. \nMore information about the evening and tickets here
URL:https://www.swissglam.ch/events-tickets/tonhallenight-2026/
LOCATION:Tonhalle Zürich\, Claridenstrasse 7\, Zurich\, 8002\, Switzerland
CATEGORIES:Charity Event,Culture
ATTACH;FMTTYPE=image/png:https://www.swissglam.ch/wp-content/uploads/2025/10/Screenshot-2025-10-27-at-11.05.24.png
END:VEVENT
BEGIN:VEVENT
DTSTART;TZID=Europe/Zurich:20251218T180000
DTEND;TZID=Europe/Zurich:20251218T200000
DTSTAMP:20260422T062906
CREATED:20251104T102737Z
LAST-MODIFIED:20251104T102737Z
UID:37968-1766080800-1766088000@www.swissglam.ch
SUMMARY:Lichterschwimmen Zurich
DESCRIPTION:At the traditional “Lichterschwimmen\,” hundreds of handmade lanterns are set afloat from Stadthausquai at exactly 6:00pm\, creating a magical scene as they drift down the River Limmat. The lanterns are crafted each year by Zurich schoolchildren\, who also have the honor of launching them onto the water. \nThis enchanting spectacle captivates both locals and visitors. Organized by Zürich Tourism in cooperation with the City’s Department of Education and Sport\, it serves as a festive gesture of gratitude. To warm the atmosphere even more\, Zürich Tourism offers hot punch and sweet treats to spectators on Weinplatz — a heartfelt thank-you to Zurich residents for their hospitality throughout the year.
URL:https://www.swissglam.ch/events-tickets/lichterschwimmen-zurich/
LOCATION:Zurich city centre\, Zurich\, Switzerland
CATEGORIES:Culture
ATTACH;FMTTYPE=image/png:https://www.swissglam.ch/wp-content/uploads/2025/11/Screenshot-2025-11-04-at-11.26.53.png
END:VEVENT
BEGIN:VEVENT
DTSTART;TZID=Europe/Zurich:20251130T170000
DTEND;TZID=Europe/Zurich:20251130T210000
DTSTAMP:20260422T062906
CREATED:20251104T102514Z
LAST-MODIFIED:20251104T102514Z
UID:37965-1764522000-1764536400@www.swissglam.ch
SUMMARY:Samichlaus Umzug Zurich 2025
DESCRIPTION:Every year on the last Sunday evening in November\, Santa arrives in the city of Zurich. Following the Märlitram\, beautifully decorated wagons and many Santas and “Schmutzli” distribute small gifts to children along the way. \nThe route leads from Werdmühleplatz through the festively illuminated Bahnhofstrasse to Bürkliplatz\, where two brass bands accompany a short ceremony marking the official start of the Santa season.
URL:https://www.swissglam.ch/events-tickets/samichlaus-umzug-zurich-2025/
LOCATION:Zurich city centre\, Zurich\, Switzerland
CATEGORIES:Culture
ATTACH;FMTTYPE=image/png:https://www.swissglam.ch/wp-content/uploads/2025/11/Screenshot-2025-11-04-at-11.24.38.png
END:VEVENT
BEGIN:VEVENT
DTSTART;VALUE=DATE:20251128
DTEND;VALUE=DATE:20251209
DTSTAMP:20260422T062906
CREATED:20251104T102233Z
LAST-MODIFIED:20251104T102233Z
UID:37962-1764288000-1765238399@www.swissglam.ch
SUMMARY:Einsiedeln Christmas Market 2025
DESCRIPTION:Set against the stunning backdrop of Einsiedeln Abbey and stretching along the entire main street\, this Christmas market holds a truly special charm. \nLovingly decorated stalls\, festive lights and the grand Christmas tree on the abbey square are sure to delight visitors of all ages. The village shops further enrich the offering with additional gift ideas and seasonal treats. \nCome to Einsiedeln and experience this magical Christmas atmosphere for yourself!
URL:https://www.swissglam.ch/events-tickets/einsiedeln-christmas-market-2025/
LOCATION:Einsiedeln\, Einsiedeln\, Switzerland
CATEGORIES:Culture,Food&More
ATTACH;FMTTYPE=image/png:https://www.swissglam.ch/wp-content/uploads/2025/11/Screenshot-2025-11-04-at-11.21.43.png
END:VEVENT
BEGIN:VEVENT
DTSTART;TZID=Europe/Zurich:20251122T080000
DTEND;TZID=Europe/Zurich:20251122T170000
DTSTAMP:20260422T062906
CREATED:20251122T143757Z
LAST-MODIFIED:20251122T143757Z
UID:38220-1763798400-1763830800@www.swissglam.ch
SUMMARY:St. Annahof Märlitram Zurich
DESCRIPTION:For children\, the best way to enjoy Advent is on a trip in the “Märlitram”. Angels read their young passengers Christmas stories while the festively decorated streetcar trundles through the city.
URL:https://www.swissglam.ch/events-tickets/st-annahof-marlitram-zurich/
LOCATION:Bellevue Zurich\, Sechseläutenplatz\, Zürich\, ZH\, 8001\, Switzerland
CATEGORIES:Culture
ATTACH;FMTTYPE=image/png:https://www.swissglam.ch/wp-content/uploads/2025/11/Screenshot-2025-11-22-at-15.36.14.png
END:VEVENT
BEGIN:VEVENT
DTSTART;VALUE=DATE:20251121
DTEND;VALUE=DATE:20251224
DTSTAMP:20260422T062906
CREATED:20251104T090932Z
LAST-MODIFIED:20251104T090932Z
UID:37947-1763683200-1766534399@www.swissglam.ch
SUMMARY:Märlitram Zürich 2025
DESCRIPTION:This year again\, the beloved Märlitram brings festive magic to Zurich’s children during the Advent season. With Santa at the wheel and two angels on board\, young passengers enjoy a 20-minute ride through the wintery city centre — now with the St. Annahof branding on the roof. \nDeparting from Bellevue\, the journey leads via Limmatquai and Central to Bahnhofstrasse and back. Along the way\, stories are told\, Christmas songs are sung\, and at the end\, each child receives a traditional Tirggel as a sweet farewell. \n\nFor children aged 4 to 9Rides 2025: daily from 21 November to 23 December(except 30 November & 14 December)Tickets available exclusively online
URL:https://www.swissglam.ch/events-tickets/marlitram-zurich-2025/
LOCATION:Zurich city centre\, Zurich\, Switzerland
CATEGORIES:Culture
ATTACH;FMTTYPE=image/png:https://www.swissglam.ch/wp-content/uploads/2025/11/Screenshot-2025-11-04-at-10.06.56.png
END:VEVENT
BEGIN:VEVENT
DTSTART;VALUE=DATE:20251120
DTEND;VALUE=DATE:20251225
DTSTAMP:20260422T062906
CREATED:20251104T104545Z
LAST-MODIFIED:20251104T104545Z
UID:37984-1763596800-1766620799@www.swissglam.ch
SUMMARY:Christmas Market Montreux 2025
DESCRIPTION:The countdown has begun: from November 20 to December 24\, come and experience the enchantment of the Montreux Christmas Market\, one of the most beautiful Christmas markets in Switzerland. \nOn the shores of Lake Geneva\, discover magical shows\, crafts\, local products\, and all the magic of Christmas.
URL:https://www.swissglam.ch/events-tickets/christmas-market-montreux-2025/
LOCATION:Montreux Market\, Grand' Rue 24\, Montreux\, 1820\, Switzerland
CATEGORIES:Culture
ATTACH;FMTTYPE=image/png:https://www.swissglam.ch/wp-content/uploads/2025/11/Screenshot-2025-11-04-at-11.45.20.png
END:VEVENT
BEGIN:VEVENT
DTSTART;VALUE=DATE:20251120
DTEND;VALUE=DATE:20251224
DTSTAMP:20260422T062906
CREATED:20251104T101640Z
LAST-MODIFIED:20251104T101640Z
UID:37956-1763596800-1766534399@www.swissglam.ch
SUMMARY:Singing Christmas Tree Zurich 2025
DESCRIPTION:The Singing Christmas Tree is one of Zurich’s most beloved festive traditions. For the choirs performing high up on the illuminated tree\, it is considered a true highlight of the year.
URL:https://www.swissglam.ch/events-tickets/singing-christmas-tree-zurich-2025/
LOCATION:Werdmühleplatz\, Werdmühleplatz\, Zurich \, 8001\, Switzerland
CATEGORIES:Culture,Food&Drinks
ATTACH;FMTTYPE=image/png:https://www.swissglam.ch/wp-content/uploads/2025/11/Screenshot-2025-11-04-at-11.13.16.png
END:VEVENT
BEGIN:VEVENT
DTSTART;TZID=Europe/Zurich:20251007T000000
DTEND;TZID=Europe/Zurich:20251007T000000
DTSTAMP:20260422T062906
CREATED:20251007T145727Z
LAST-MODIFIED:20251007T145750Z
UID:37457-1759795200-1759795200@www.swissglam.ch
SUMMARY:Oiseaux Rebelles - Ballet Zurich
DESCRIPTION:Ballet by Dani Rowe to Modest Mussorgsky’s “Bilder einer Ausstellung”\n(orchestral version by Maurice Ravel) \nFrom 12. October 2025 until 9. December 2025
URL:https://www.swissglam.ch/events-tickets/oiseaux-rebelles-ballet-zurich/
CATEGORIES:Culture,Dance
ATTACH;FMTTYPE=image/jpeg:https://www.swissglam.ch/wp-content/uploads/2025/10/amyjudd_glowingwing_30x40_mxm-scaled.jpg
END:VEVENT
BEGIN:VEVENT
DTSTART;TZID=Europe/Zurich:20251002T200000
DTEND;TZID=Europe/Zurich:20251002T230000
DTSTAMP:20260422T062906
CREATED:20250810T170856Z
LAST-MODIFIED:20250810T170856Z
UID:37098-1759435200-1759446000@www.swissglam.ch
SUMMARY:International Film Music Competition 2025
DESCRIPTION:A total of around 170 compositions from 36 countries were submitted\, and three musicians prevailed in the anonymous selection process: Mikal Grigorowitsch\, Antonio Di Iorio and Gary Hirche. All participants in the competition were tasked with creating their own musical composition for the seven-minute short film WILD LOVE. \nDuring the «Cinema in Concert» gala on October 2\, 2025\, the Tonhalle-Orchester Zürich will premiere the compositions of the three nominees. On the same evening\, the winner will receive the «Golden Eye» for «Best International Film Music 2025» from this year’s jury\, which includes Oscar winner Hildur Guðnadóttir. \nThis year\, the International Film Music Competition is once again being held in collaboration with the festival. And this year too\, the soundtracks of the three finalists will be played live. This time\, the short film “Wild in Love”\, which begins with an idyllic mountain tour for two – and ends anything but idyllically – will be set to music. The jury\, headed by Icelandic Oscar winner Hildur Guðnadóttir (“Joker”\, “Tár” and others)\, will decide which of the three soundtracks will be honoured with the Golden Eye. Frank Strobel will conduct excerpts from film scores by the jury president and the multi-award-winning Swiss composer Balz Bachmann (“Bis ans Ende der Träume”\, “Giulias Verschwinden” and others). The exact programme will follow later. \nSupported by the Else v. Sick Foundation\, the Freundeskreis Tonhalle-Orchester Zürich\, the Fondation SUISA\, SWISSPERFORM and the Stiftung Phonoproduzierende \ntickets are here
URL:https://www.swissglam.ch/events-tickets/international-film-music-competition-2025/
LOCATION:Tonhalle Zürich\, Claridenstrasse 7\, Zurich\, 8002\, Switzerland
CATEGORIES:Culture
ATTACH;FMTTYPE=image/png:https://www.swissglam.ch/wp-content/uploads/2025/08/Screenshot-2025-08-10-at-19.02.33.png
END:VEVENT
BEGIN:VEVENT
DTSTART;TZID=Europe/Zurich:20250428T093000
DTEND;TZID=Europe/Zurich:20250428T233000
DTSTAMP:20260422T062906
CREATED:20250112T105547Z
LAST-MODIFIED:20250112T105547Z
UID:34992-1745832600-1745883000@www.swissglam.ch
SUMMARY:Sechseläuten 2025 – Zurich’s Spring Festival
DESCRIPTION:
URL:https://www.swissglam.ch/events-tickets/sechselauten-2025-zurichs-spring-festival/
LOCATION:Zurich city centre\, Zurich\, Switzerland
CATEGORIES:Culture
ATTACH;FMTTYPE=image/png:https://www.swissglam.ch/wp-content/uploads/2025/01/Screenshot-2025-01-12-at-11.54.50.png
END:VEVENT
BEGIN:VEVENT
DTSTART;TZID=Europe/Zurich:20250308T190000
DTEND;TZID=Europe/Zurich:20250308T223000
DTSTAMP:20260422T062906
CREATED:20241125T154434Z
LAST-MODIFIED:20241125T154434Z
UID:34417-1741460400-1741473000@www.swissglam.ch
SUMMARY:Ballett ohne Grenzen Zurich 2024
DESCRIPTION:
URL:https://www.swissglam.ch/events-tickets/ballett-ohne-grenzen-zurich-2024/
LOCATION:Theater 11\, Thurgauerstrasse 7\, Zurich\, ZH\, 8050\, Switzerland
CATEGORIES:Culture,Dance
ATTACH;FMTTYPE=image/png:https://www.swissglam.ch/wp-content/uploads/2024/11/Screenshot-2024-11-25-at-16.42.20.png
END:VEVENT
BEGIN:VEVENT
DTSTART;VALUE=DATE:20250222
DTEND;VALUE=DATE:20250305
DTSTAMP:20260422T062906
CREATED:20250101T151655Z
LAST-MODIFIED:20250101T151655Z
UID:34865-1740182400-1741132799@www.swissglam.ch
SUMMARY:Venice Carnival 2025
DESCRIPTION:
URL:https://www.swissglam.ch/events-tickets/venice-carnival-2025/
LOCATION:Venice\, 30100\, Italy
CATEGORIES:Culture
END:VEVENT
BEGIN:VEVENT
DTSTART;TZID=Europe/Zurich:20250208T113000
DTEND;TZID=Europe/Zurich:20250208T170000
DTSTAMP:20260422T062906
CREATED:20250125T084653Z
LAST-MODIFIED:20250125T084653Z
UID:35073-1739014200-1739034000@www.swissglam.ch
SUMMARY:Costume Sale Opera House Zurich Kostümverkauf
DESCRIPTION:The Zurich Opera House opens its treasure trove\, the costume shop (Binzmühlstrasse 210 in Oerlikon)\, and offers numerous costumes\, accessories\, masks\, hats\, wigs and fabrics for sale. Around 3000 costumes on more than 100 costume trolleys from productions performed in recent years\, such as Sweeney Todd\, Amerika\, Barkouf\, Land des Lächelns and Monteverdi\, are available to choose from. \nOn Saturday\, 8 February\, from 11.30 to 17.00\, it’s that time again. There will be something for every occasion\, budget and clothing size. \nPrices range from CHF 2 to CHF 250.\nPayment only possible in cash or with TWINT! \nBefore\, during and after your shopping adventure\, Luna’s crêpes will keep you going with savoury and sweet options and drinks. \nPublic costume and fabric sale\nSaturday\, 8 February 2025\n11.30 – 17.00\nFundus Opera House\nBinzmühlstrasse 210\n8050 Zurich (Oerlikon \n 
URL:https://www.swissglam.ch/events-tickets/costume-sale-opera-house-zurich-kostumverkauf/
LOCATION:Fundus Opera House\, Binzmühlstrasse 210\, Zurich\, 8055\, Switzerland
CATEGORIES:Culture
ATTACH;FMTTYPE=image/png:https://www.swissglam.ch/wp-content/uploads/2025/01/Screenshot-2025-01-25-at-09.43.18.png
END:VEVENT
BEGIN:VEVENT
DTSTART;VALUE=DATE:20250125
DTEND;VALUE=DATE:20250203
DTSTAMP:20260422T062906
CREATED:20241113T201454Z
LAST-MODIFIED:20241113T201454Z
UID:34335-1737763200-1738540799@www.swissglam.ch
SUMMARY:Festival International de Ballons Château-d’Œx
DESCRIPTION:As the alpine capital of hot air ballooning\, Château-d’Œx has been welcoming balloons from around the world for over 40 years now. The colourful festival takes place over 9 days and includes night shows\, balloon flights\, sporting competitions and a children’s day.
URL:https://www.swissglam.ch/events-tickets/festival-international-de-ballons-chateau-doex/
LOCATION:Château-d’Oex\, Place du Village 6\, Château-d'Oex\, 1660\, Switzerland
CATEGORIES:Culture
ATTACH;FMTTYPE=image/png:https://www.swissglam.ch/wp-content/uploads/2024/11/Screenshot-2024-11-13-at-17.11.07-1.png
END:VEVENT
BEGIN:VEVENT
DTSTART;TZID=Europe/Zurich:20241124T170000
DTEND;TZID=Europe/Zurich:20241124T210000
DTSTAMP:20260422T062906
CREATED:20241113T202015Z
LAST-MODIFIED:20241113T202015Z
UID:34339-1732467600-1732482000@www.swissglam.ch
SUMMARY:Samichlausumzug Zürich 2024
DESCRIPTION:
URL:https://www.swissglam.ch/events-tickets/samichlausumzug-zurich-2024/
LOCATION:Zurich city centre\, Zurich\, Switzerland
CATEGORIES:Culture
END:VEVENT
BEGIN:VEVENT
DTSTART;VALUE=DATE:20241122
DTEND;VALUE=DATE:20241225
DTSTAMP:20260422T062906
CREATED:20241020T081514Z
LAST-MODIFIED:20241020T081514Z
UID:34168-1732233600-1735084799@www.swissglam.ch
SUMMARY:Jelmoli Märlitram 2024
DESCRIPTION:Vom 22.11. bis 24.12.2024\, Mo bis Fr von 13.25 bis 18.50 Uhr\,\nSa bis So bereits ab 12.10 Uhr \nBellevue\, Seite Sechseläutenplatz (Station «Jelmoli Märlitram»). Alle 25 Minuten\, ausgenommen So 24.11. (Samichlaus-Umzug)\, So 15.12. (Silvesterlauf). Kinder von 4 bis 9 Jahren dürfen mitfahren. \nDer Vorverkauf für die Tickets 2024 beginnt am 15. November und findet ausschliesslich online statt\, eine Abholung vor Ort ist in diesem Jahr nicht möglich. \nVorverkauf jeweils 1 Woche im Voraus. Mehr unter jelmoli.ch/maerlitram.
URL:https://www.swissglam.ch/events-tickets/jelmoli-marlitram-2024/
LOCATION:Zurich city centre\, Zurich\, Switzerland
CATEGORIES:Culture
ATTACH;FMTTYPE=image/png:https://www.swissglam.ch/wp-content/uploads/2024/10/Screenshot-2024-10-20-at-10.10.05.png
END:VEVENT
BEGIN:VEVENT
DTSTART;VALUE=DATE:20241121
DTEND;VALUE=DATE:20241224
DTSTAMP:20260422T062906
CREATED:20241110T103150Z
LAST-MODIFIED:20241110T103150Z
UID:34268-1732147200-1734998399@www.swissglam.ch
SUMMARY:Weihnachtsdorf - Zurich Christmas Market Bellevue 2024
DESCRIPTION:📆 Nov 21 – Dec 23\n⏰ Mon – Sat: 11 am – 10 pm | Sun: 11 am – 8 pm\n🎁 Presents\, mulled wine & fondue chalet
URL:https://www.swissglam.ch/events-tickets/weihnachtsdorf-zurich-christmas-market-bellevue-2024/
LOCATION:Bellevue Zurich\, Sechseläutenplatz\, Zürich\, ZH\, 8001\, Switzerland
CATEGORIES:Culture
ATTACH;FMTTYPE=image/png:https://www.swissglam.ch/wp-content/uploads/2024/11/Screenshot-2024-11-10-at-11.31.06.png
END:VEVENT
BEGIN:VEVENT
DTSTART;VALUE=DATE:20241121
DTEND;VALUE=DATE:20241225
DTSTAMP:20260422T062906
CREATED:20241110T102809Z
LAST-MODIFIED:20241110T102809Z
UID:34265-1732147200-1735084799@www.swissglam.ch
SUMMARY:Montreux Christmas Market 2024
DESCRIPTION:Experience a unique moment celebrating 30 years of magic\, emotions and festivities! \nOn scintillating walkways by the lake\, you will discover 150 artisans. Their market stalls will charm you with unique gift ideas and delicious specialties.
URL:https://www.swissglam.ch/events-tickets/montreux-christmas-market-2024/
LOCATION:Montreux Market\, Grand' Rue 24\, Montreux\, 1820\, Switzerland
CATEGORIES:Culture
ATTACH;FMTTYPE=image/png:https://www.swissglam.ch/wp-content/uploads/2024/11/Screenshot-2024-11-10-at-11.27.46.png
END:VEVENT
BEGIN:VEVENT
DTSTART;VALUE=DATE:20241110
DTEND;VALUE=DATE:20250324
DTSTAMP:20260422T062906
CREATED:20241110T104011Z
LAST-MODIFIED:20241110T104011Z
UID:34274-1731196800-1742774399@www.swissglam.ch
SUMMARY:Musical Billy Elliot Zurich
DESCRIPTION:01.11.2024 – 23.03.2025 @MAAG Halle| MAAG Moments | Billy Elliot
URL:https://www.swissglam.ch/events-tickets/musical-billy-elliot-zurich/
LOCATION:Maag Halle\, Hardstrasse 219\, Zürich\, ZH\, 8005\, Switzerland
CATEGORIES:Culture
ATTACH;FMTTYPE=image/png:https://www.swissglam.ch/wp-content/uploads/2024/11/Screenshot-2024-11-10-at-11.39.44.png
END:VEVENT
BEGIN:VEVENT
DTSTART;VALUE=DATE:20241106
DTEND;VALUE=DATE:20241223
DTSTAMP:20260422T062906
CREATED:20240417T152354Z
LAST-MODIFIED:20240417T152354Z
UID:32134-1730851200-1734911999@www.swissglam.ch
SUMMARY:Musical Phantom of the Opera
DESCRIPTION:After almost 30 years\, the world’s most popular musical THE PHANTOM OF THE OPERA is coming back to the Musical Theatre Basel in Switzerland from November 2024! \nAndrew Lloyd Webber’s most famous musical is also one of the most successful in entertainment history – with over 160 million viewers in 41 countries and 186 cities in 19 languages. It is the longest-running show on Broadway\, celebrating its 30th anniversary in 2018\, and has won more than 70 major theatre awards\, including seven Tony Awards and four Olivier Awards\, including one for Best Musical. \n 
URL:https://www.swissglam.ch/events-tickets/musical-phantom-of-the-opera/
LOCATION:Musical Theatre Basel\, Feldbergstrasse 151\, Basel\, BS\, 4058\, Switzerland
CATEGORIES:Culture
ATTACH;FMTTYPE=image/png:https://www.swissglam.ch/wp-content/uploads/2024/04/Screenshot-2024-04-17-at-17.22.12.png
END:VEVENT
BEGIN:VEVENT
DTSTART;VALUE=DATE:20241031
DTEND;VALUE=DATE:20241111
DTSTAMP:20260422T062906
CREATED:20241014T214009Z
LAST-MODIFIED:20241014T214009Z
UID:33993-1730332800-1731283199@www.swissglam.ch
SUMMARY:DA Z – Digital Art Zurich 2024
DESCRIPTION:The DA Z is dedicated to current and socially relevant contributions of digital forms of avant-garde art.\nThe Programm is here
URL:https://www.swissglam.ch/events-tickets/da-z-digital-art-zurich-2024/
CATEGORIES:Culture,Education
ATTACH;FMTTYPE=image/jpeg:https://www.swissglam.ch/wp-content/uploads/2024/10/294102539_476062277857299_8448265424241687745_n.jpg
END:VEVENT
BEGIN:VEVENT
DTSTART;VALUE=DATE:20241031
DTEND;VALUE=DATE:20241111
DTSTAMP:20260422T062906
CREATED:20241014T200328Z
LAST-MODIFIED:20241014T200415Z
UID:33964-1730332800-1731283199@www.swissglam.ch
SUMMARY:RE:MOZART Zurich
DESCRIPTION:The Alpine Theater Company St. Moritz (ATC)\, founded in 2023\, successfully premiered the RE:MOZART in St. Moritz last December. Now the play is coming to Zurich! \nSwiss actor Alexander Albrecht is once again responsible for both the role of Mozart and the artistic direction of the production. He is joined by the Austrian Alexander Moitzi\, who plays the role of the gloomy Salieri. In RE:MOZART\, the well-known Mozart material is brought to the stage in a new theatrical interpretation.
URL:https://www.swissglam.ch/events-tickets/remozart-zurich/
LOCATION:GENESIS STUDIO\, BAHNHOFSTR. 62\, Zurich\, 8001\, Switzerland
CATEGORIES:Culture
ATTACH;FMTTYPE=image/jpeg:https://www.swissglam.ch/wp-content/uploads/2024/10/REMozart_1.jpeg
END:VEVENT
BEGIN:VEVENT
DTSTART;VALUE=DATE:20241005
DTEND;VALUE=DATE:20241007
DTSTAMP:20260422T062906
CREATED:20240827T185250Z
LAST-MODIFIED:20240827T185250Z
UID:33433-1728086400-1728259199@www.swissglam.ch
SUMMARY:ZURICH POP CON
DESCRIPTION:The ZURICH POP CON & Game Show is the biggest festival in Switzerland in the fall for fans of pop culture\, gaming\, cosplay\, digital entertainment\, comics\, anime\, manga and K-Pop.\nExperience European\, American and Asian pop culture: manga & anime\, food & music\, comics\, content creators\, art & cosplay and of course gaming & eSports!\nDiscover new merch\, marvel at anime\, manga and comic artists\, play the hottest games or take part in our unique cosplay contests – in front of or on stage! Meet new friends\, discover great communities and enjoy two days full of fun\, joy\, action and surprises! \n 
URL:https://www.swissglam.ch/events-tickets/zurich-pop-con/
LOCATION:Messe Zürich\, Thurgauerstrasse 7\, Zurich\, Zurich\, 8050\, Switzerland
CATEGORIES:Culture
ATTACH;FMTTYPE=image/jpeg:https://www.swissglam.ch/wp-content/uploads/2024/08/271340479_4547025955346778_5971639769370978167_n.jpg
END:VEVENT
BEGIN:VEVENT
DTSTART;TZID=Europe/Zurich:20240907T180000
DTEND;TZID=Europe/Zurich:20240907T233000
DTSTAMP:20260422T062906
CREATED:20240809T065751Z
LAST-MODIFIED:20240809T065751Z
UID:33071-1725732000-1725751800@www.swissglam.ch
SUMMARY:Late Night at Zurich’s Museums
DESCRIPTION:Once again this year\, Zurich’s museums are inviting visitors on a night-time voyage of discovery on the first Saturday in September. There is hardly a better opportunity to experience the diversity of Zurich’s museums than the LONG NIGHT. Exhibitions\, collections and a colorful supporting program turn night into day. \nThe complete program can be found here: langenacht-zuerich.ch
URL:https://www.swissglam.ch/events-tickets/late-night-at-zurichs-museums/
LOCATION:Zurich city centre\, Zurich\, Switzerland
CATEGORIES:Culture
ATTACH;FMTTYPE=image/webp:https://www.swissglam.ch/wp-content/uploads/2024/08/240430-ticketvorverkauf-784-x-479px-4NANFXNU.webp
END:VEVENT
BEGIN:VEVENT
DTSTART;VALUE=DATE:20240809
DTEND;VALUE=DATE:20240812
DTSTAMP:20260422T062906
CREATED:20240722T082712Z
LAST-MODIFIED:20240722T082712Z
UID:33017-1723161600-1723420799@www.swissglam.ch
SUMMARY:Seenachtfest Rapperswil-Jona
DESCRIPTION:Seenachtfest Rapperswil-Jona 2024 – The ultimate summer party on Lake Zurich! 🌊🎉\nBe there when the upper Lake Zurich comes to life with concerts\, DJs\, cool drinks and an incomparable atmosphere. \n 
URL:https://www.swissglam.ch/events-tickets/seenachtfest-rapperswil-jona/
LOCATION:RAPPERSWIL\, RAPPERSWIL\, RAPPERSWIL-JONA\, 8640\, Switzerland
CATEGORIES:Culture
ATTACH;FMTTYPE=image/jpeg:https://www.swissglam.ch/wp-content/uploads/2024/07/406225428_683262970614490_2428351941215243922_n.jpg
END:VEVENT
BEGIN:VEVENT
DTSTART;VALUE=DATE:20240628
DTEND;VALUE=DATE:20240701
DTSTAMP:20260422T062906
CREATED:20231223T220950Z
LAST-MODIFIED:20231223T220950Z
UID:31067-1719532800-1719791999@www.swissglam.ch
SUMMARY:Federal Costume Festival Zurich 2024
DESCRIPTION:After 50 years\, the colorful folk festival returns to Zurich and promises three days full of music and tradition. The program is here
URL:https://www.swissglam.ch/events-tickets/federal-costume-festival-zurich-2024/
LOCATION:Zurich city centre\, Zurich\, Switzerland
CATEGORIES:Culture
ATTACH;FMTTYPE=image/png:https://www.swissglam.ch/wp-content/uploads/2023/12/Screenshot-2023-12-23-at-23.09.25.png
END:VEVENT
BEGIN:VEVENT
DTSTART;TZID=Europe/Zurich:20240615T180000
DTEND;TZID=Europe/Zurich:20240615T213000
DTSTAMP:20260422T062906
CREATED:20240313T153335Z
LAST-MODIFIED:20240313T153335Z
UID:31858-1718474400-1718487000@www.swissglam.ch
SUMMARY:Opera for all
DESCRIPTION:Every year\, the Opernhaus Zürich invites everyone to oper für alle. This free\, open-air spectacle is an integral part of Zurich’s cultural calendar. Be a part of it when the majestic Sechseläutenplatz is transformed as more than 10\,000 spectators come together to take in George Bizet’s masterpiece Carmen\, broadcast live from the Opernhaus with a glittering cast. Bring your friends and family\, your folding chairs\, blankets\, and picnic dinners – or pick something up on site. The whole program kicks off at 6 pm. \nFree admission \nLive broadcast on Sechseläutenplatz
URL:https://www.swissglam.ch/events-tickets/opera-for-all/
LOCATION:Opernhaus Zurich\, Falkenstrasse 1\, Zurich\, 8008\, Switzerland
CATEGORIES:Culture
ATTACH;FMTTYPE=image/png:https://www.swissglam.ch/wp-content/uploads/2024/03/Screenshot-2024-03-13-at-16.31.49.png
END:VEVENT
END:VCALENDAR