BEGIN:VCALENDAR
VERSION:2.0
PRODID:-//SwissGlam.ch - ECPv6.15.17.1//NONSGML v1.0//EN
CALSCALE:GREGORIAN
METHOD:PUBLISH
X-ORIGINAL-URL:https://www.swissglam.ch
X-WR-CALDESC:Events for SwissGlam.ch
REFRESH-INTERVAL;VALUE=DURATION:PT1H
X-Robots-Tag:noindex
X-PUBLISHED-TTL:PT1H
BEGIN:VTIMEZONE
TZID:Europe/Zurich
BEGIN:DAYLIGHT
TZOFFSETFROM:+0100
TZOFFSETTO:+0200
TZNAME:CEST
DTSTART:20210328T010000
END:DAYLIGHT
BEGIN:STANDARD
TZOFFSETFROM:+0200
TZOFFSETTO:+0100
TZNAME:CET
DTSTART:20211031T010000
END:STANDARD
BEGIN:DAYLIGHT
TZOFFSETFROM:+0100
TZOFFSETTO:+0200
TZNAME:CEST
DTSTART:20220327T010000
END:DAYLIGHT
BEGIN:STANDARD
TZOFFSETFROM:+0200
TZOFFSETTO:+0100
TZNAME:CET
DTSTART:20221030T010000
END:STANDARD
BEGIN:DAYLIGHT
TZOFFSETFROM:+0100
TZOFFSETTO:+0200
TZNAME:CEST
DTSTART:20230326T010000
END:DAYLIGHT
BEGIN:STANDARD
TZOFFSETFROM:+0200
TZOFFSETTO:+0100
TZNAME:CET
DTSTART:20231029T010000
END:STANDARD
BEGIN:DAYLIGHT
TZOFFSETFROM:+0100
TZOFFSETTO:+0200
TZNAME:CEST
DTSTART:20240331T010000
END:DAYLIGHT
BEGIN:STANDARD
TZOFFSETFROM:+0200
TZOFFSETTO:+0100
TZNAME:CET
DTSTART:20241027T010000
END:STANDARD
END:VTIMEZONE
BEGIN:VTIMEZONE
TZID:UTC
BEGIN:STANDARD
TZOFFSETFROM:+0000
TZOFFSETTO:+0000
TZNAME:UTC
DTSTART:20210101T000000
END:STANDARD
END:VTIMEZONE
BEGIN:VEVENT
DTSTART;VALUE=DATE:20230906
DTEND;VALUE=DATE:20231030
DTSTAMP:20260422T095412
CREATED:20230906T211739Z
LAST-MODIFIED:20230906T211739Z
UID:29195-1693958400-1698623999@www.swissglam.ch
SUMMARY:Pumpkin Exhibition
DESCRIPTION:Huge pumpkin figures decorate the Jucker Farm Swiss farms  from the end of August until the end of October. In addition\, you can expect delicious pumpkin dishes\, specialties from the farm store\, pumpkin carving\, various pumpkin events and much more.
URL:https://www.swissglam.ch/events-tickets/pumpkin-exhibition-2/
LOCATION:Jucker Farm AG\, Dorfstrasse 23 Seegräben\, Seegräben\, Zurich\, 8607\, Switzerland
CATEGORIES:Culture,Food&More
ATTACH;FMTTYPE=image/png:https://www.swissglam.ch/wp-content/uploads/2023/09/Screenshot-2023-09-06-at-23.08.05.png
END:VEVENT
BEGIN:VEVENT
DTSTART;TZID=Europe/Zurich:20230902T180000
DTEND;TZID=Europe/Zurich:20230902T233000
DTSTAMP:20260422T095412
CREATED:20230814T123539Z
LAST-MODIFIED:20230814T123539Z
UID:28854-1693677600-1693697400@www.swissglam.ch
SUMMARY:Late Night Zurich Museums
DESCRIPTION:There is hardly a better opportunity than the LONG NIGHT to discover the extraordinary diversity of Zurich’s museums: whether art\, architecture/design/creation\, cultural history\, non-European cultures\, natural science/medicine\, plants and animals – the spectrum offers something for every interest. And the colorful supporting program turns night into day. \nThe Programm is here
URL:https://www.swissglam.ch/events-tickets/late-night-zurich-museums/
LOCATION:Zurich city centre\, Zurich\, Switzerland
CATEGORIES:Culture
ATTACH;FMTTYPE=image/png:https://www.swissglam.ch/wp-content/uploads/2023/08/Screenshot-2023-08-14-at-14.34.44.png
END:VEVENT
BEGIN:VEVENT
DTSTART;VALUE=DATE:20230901
DTEND;VALUE=DATE:20230904
DTSTAMP:20260422T095412
CREATED:20230805T135217Z
LAST-MODIFIED:20230805T135217Z
UID:28804-1693526400-1693785599@www.swissglam.ch
SUMMARY:Flughafenfest - Airport Zurich Fest
DESCRIPTION:Since its first flight 75 years ago\, Zurich Airport has developed into Switzerland’s most important international traffic hub. From September 1 to 3\, 2023\, the airport will celebrate its anniversary with a three-day airport festival for the population and all airport fans. \nThe program is here
URL:https://www.swissglam.ch/events-tickets/flughafenfest-airport-zurich-fest/
CATEGORIES:Culture
ATTACH;FMTTYPE=image/png:https://www.swissglam.ch/wp-content/uploads/2023/08/Screenshot-2023-08-05-at-15.51.58.png
END:VEVENT
BEGIN:VEVENT
DTSTART;VALUE=DATE:20230831
DTEND;VALUE=DATE:20230904
DTSTAMP:20260422T095412
CREATED:20230828T220604Z
LAST-MODIFIED:20230828T220604Z
UID:29050-1693440000-1693785599@www.swissglam.ch
SUMMARY:Gwand Sustainable Festival 2023
DESCRIPTION:From 31 August to 3 September 2023 the Gwand Festival Lucerne will celebrate for four days sustainability in fashion and in life. Free entry. The Gwand Sustainable Festival is a platform for various events: in 2021 and 2022\, thousands of visitors flocked to the Gwand near the music pavilion on the lake to look\, talk\, discuss\, exchange\, buy\, marvel\, drink\, eat\, relax\, and enjoy – under a glistening sun and rainbows and the star of sustainability. During the festival days discover various sustainable offers.
URL:https://www.swissglam.ch/events-tickets/gwand-sustainable-festival-2023/
LOCATION:Lucerne\, Switzerland
CATEGORIES:Culture,Fashion
ATTACH;FMTTYPE=image/png:https://www.swissglam.ch/wp-content/uploads/2023/08/Screenshot-2023-08-29-at-00.04.59.png
END:VEVENT
BEGIN:VEVENT
DTSTART;VALUE=DATE:20230817
DTEND;VALUE=DATE:20230904
DTSTAMP:20260422T095412
CREATED:20230716T133320Z
LAST-MODIFIED:20230716T133320Z
UID:28487-1692230400-1693785599@www.swissglam.ch
SUMMARY:Zurich Theater Spectacle
DESCRIPTION:International festival with drama\, dance\, concerts\, music projects\, installations and an extensive family program. \n\n\n\n\n\n\n\n\n\n\n\n 
URL:https://www.swissglam.ch/events-tickets/zurich-theater-spectacle/
LOCATION:Zurich city centre\, Zurich\, Switzerland
CATEGORIES:Culture
ATTACH;FMTTYPE=image/jpeg:https://www.swissglam.ch/wp-content/uploads/2023/07/326785601_580080496970178_8238861578736697738_n.jpg
END:VEVENT
BEGIN:VEVENT
DTSTART;TZID=Europe/Zurich:20230617T180000
DTEND;TZID=Europe/Zurich:20230617T210000
DTSTAMP:20260422T095412
CREATED:20230527T184913Z
LAST-MODIFIED:20230527T184913Z
UID:27721-1687024800-1687035600@www.swissglam.ch
SUMMARY:Oper Für Alle
DESCRIPTION:Each year\, the Opernhaus Zürich broadcasts a performance live on the Sechseläutenplatz under the title oper für alle (opera for all)\, when the grand Sechseläutenplatz plaza is transformed into an open-air theater. This free event has become a beloved fixture on Zurich’s event calendar. Join in as more than 12\,000 visitors come together for a summery evening performance under the stars. \nThis year\, enjoy Gaetano Donizetti’s comedy Don Pasquale\, featuring a glittering cast\, live from the Opernhaus. Bring your friends and family\, and pack up your lawn chairs\, picnic blankets\, and picnic baskets – or take advantage of onsite food stands. A colorful pre-show program begins at 6pm. Free admission
URL:https://www.swissglam.ch/events-tickets/oper-fur-alle/
LOCATION:Bellevue Zurich\, Sechseläutenplatz\, Zürich\, ZH\, 8001\, Switzerland
CATEGORIES:Culture
ATTACH;FMTTYPE=image/png:https://www.swissglam.ch/wp-content/uploads/2023/05/Screenshot-2023-05-27-at-20.46.26.png
END:VEVENT
BEGIN:VEVENT
DTSTART;VALUE=DATE:20230526
DTEND;VALUE=DATE:20230626
DTSTAMP:20260422T095412
CREATED:20230219T173605Z
LAST-MODIFIED:20230219T173605Z
UID:26444-1685059200-1687737599@www.swissglam.ch
SUMMARY:Monteverdi Ballet Zurich
DESCRIPTION:Musical theatre by Christian Spuck\nMusic by Claudio Monteverdi\,\nBenedetto Ferrari\, Biagio Marini\, Tarquinio Merula\,\nFrancesco Rognoni and Giovanni Maria Trabaci\nWorld premiere
URL:https://www.swissglam.ch/events-tickets/monteverdi-ballet-zurich/
LOCATION:Opernhaus Zurich\, Falkenstrasse 1\, Zurich\, 8008\, Switzerland
CATEGORIES:Culture,Dance
ATTACH;FMTTYPE=image/jpeg:https://www.swissglam.ch/wp-content/uploads/2023/02/ballett-zurich_monteverdi_04-01-2022_photo_gregory-batardon_124.0x800.jpg
END:VEVENT
BEGIN:VEVENT
DTSTART;VALUE=DATE:20230505
DTEND;VALUE=DATE:20230605
DTSTAMP:20260422T095412
CREATED:20230506T161958Z
LAST-MODIFIED:20230506T161958Z
UID:27401-1683244800-1685923199@www.swissglam.ch
SUMMARY:World Press Photo 2023
DESCRIPTION:The exhibition “World Press Photo 2023” presents the world’s best press photographs of the past year. A total of over 60\,000 images were submitted by 3752 photographers from 127 countries\, from which a global jury made a selection. \nThe topics range from the war in Ukraine to the effects of climate change and the protests in Iran. The global retrospective of the year 2022 makes it possible to look at the fast-moving current events in the media for once in peace\, to get to know them from previously unknown perspectives and to reflect critically on them. \n 
URL:https://www.swissglam.ch/events-tickets/world-press-photo-2023/
LOCATION:Landesmuseum\, Museumstrasse 2\, Zurich\, 8001\, Switzerland
CATEGORIES:Culture,Exhibition
ATTACH;FMTTYPE=image/png:https://www.swissglam.ch/wp-content/uploads/2023/05/Screenshot-2023-05-06-at-18.19.16.png
END:VEVENT
BEGIN:VEVENT
DTSTART;VALUE=DATE:20230227
DTEND;VALUE=DATE:20230302
DTSTAMP:20260422T095412
CREATED:20230213T162041Z
LAST-MODIFIED:20230213T162041Z
UID:26312-1677456000-1677715199@www.swissglam.ch
SUMMARY:Basel Carnival 2023
DESCRIPTION:The Basel Carnival is part of the city’s identity – it is at the heart of its cultural creativity and allows for three days of exceptionalism. Because of its uniqueness and quality\, Switzerland’s largest carnival is an intangible UNESCO World Heritage Site.\nBasel Carnival (Fasnacht) starts at 4 a.m. in the morning on the Monday after Ash Wednesday\, and lasts for three days. An unforgettable experience.
URL:https://www.swissglam.ch/events-tickets/basel-carnival-2023/
LOCATION:Messe Basel\, Basel\, Switzerland
CATEGORIES:Culture
ATTACH;FMTTYPE=image/png:https://www.swissglam.ch/wp-content/uploads/2023/02/Screenshot-2023-02-13-at-17.19.53.png
END:VEVENT
BEGIN:VEVENT
DTSTART;VALUE=DATE:20230222
DTEND;VALUE=DATE:20230318
DTSTAMP:20260422T095412
CREATED:20230219T173226Z
LAST-MODIFIED:20230219T173226Z
UID:26441-1677024000-1679097599@www.swissglam.ch
SUMMARY:Opera Roberto Devereux
DESCRIPTION:Gaetano Donizetti (1797-1848)\nTragedia lirica in three acts\nLibretto by Salvatore Cammarano\nMusic Direction Enrique Mazzola Producer David Alden Stage and costume design Gideon DaveyLighting designer Elfried Roller Assistant choreographer Arturo Gama Chorus Master Janko Kastelic Dramaturgy Kathrin Brunner
URL:https://www.swissglam.ch/events-tickets/opera-roberto-devereux/
LOCATION:Opernhaus Zurich\, Falkenstrasse 1\, Zurich\, 8008\, Switzerland
CATEGORIES:Culture
ATTACH;FMTTYPE=image/jpeg:https://www.swissglam.ch/wp-content/uploads/2023/02/roberto_devereux_gp_r_toni_suter_3665.0x800.jpeg
END:VEVENT
BEGIN:VEVENT
DTSTART;VALUE=DATE:20230122
DTEND;VALUE=DATE:20230130
DTSTAMP:20260422T095412
CREATED:20221103T213736Z
LAST-MODIFIED:20221103T213736Z
UID:25081-1674345600-1675036799@www.swissglam.ch
SUMMARY:Belle Epoque Week
DESCRIPTION:Take a trip back in time and take part in the Belle Epoque Week at the Kandersteg.
URL:https://www.swissglam.ch/events-tickets/belle-epoque-week/
LOCATION:Kandersteg\, Kandersteg\, 3718\, Switzerland
CATEGORIES:Culture,Sport
ATTACH;FMTTYPE=image/jpeg:https://www.swissglam.ch/wp-content/uploads/2022/11/Webaufnahme_3-11-2022_223644_www.myswitzerland.com_.jpeg
END:VEVENT
BEGIN:VEVENT
DTSTART;VALUE=DATE:20230112
DTEND;VALUE=DATE:20230123
DTSTAMP:20260422T095412
CREATED:20221226T185756Z
LAST-MODIFIED:20221226T185756Z
UID:25877-1673481600-1674431999@www.swissglam.ch
SUMMARY:Lilu Lichtfestival Luzern
DESCRIPTION:At the beginning of the new year\, the city of Lucerne shows itself in a luminous colorful garb. From January 12 to 22\, 2023\, numerous light art installations will illuminate the alleys and squares around Lucerne’s lake basin at the Lilu Light Festival Lucerne.
URL:https://www.swissglam.ch/events-tickets/lilu-lichtfestival-luzern/
CATEGORIES:Culture
ATTACH;FMTTYPE=image/jpeg:https://www.swissglam.ch/wp-content/uploads/2022/12/301015489_487411633390418_7410408601893162879_n.jpeg
END:VEVENT
BEGIN:VEVENT
DTSTART;VALUE=DATE:20221215
DTEND;VALUE=DATE:20230319
DTSTAMP:20260422T095412
CREATED:20221226T183333Z
LAST-MODIFIED:20221226T183333Z
UID:25867-1671062400-1679183999@www.swissglam.ch
SUMMARY:Secret Mountain Davos
DESCRIPTION:A UNIQUE CONCEPT IN THE HEART OF DAVOS DORF \nAfter we have pitched our tents with sand & sun at the lake the last years\, it goes on to the winter season in the magical mountain world of Davos. We reveal the secret. The mountain calls. Davos we come. Directly at the gateway to Davos\, around the natural ice rink of the Seehofseeli\, the largest winter pop-up in the Alps is being built. Staged in the look of an arctic polar station\, we redefine après-ski.
URL:https://www.swissglam.ch/events-tickets/secret-mountain-davos/
LOCATION:Davos\, Switzerland
CATEGORIES:Culture,Food&More,Music
ATTACH;FMTTYPE=image/png:https://www.swissglam.ch/wp-content/uploads/2022/12/Screenshot-2022-12-26-at-19.32.57.png
END:VEVENT
BEGIN:VEVENT
DTSTART;TZID=UTC:20221201T200000
DTEND;TZID=UTC:20221201T220000
DTSTAMP:20260422T095412
CREATED:20221019T182837Z
LAST-MODIFIED:20221019T182837Z
UID:24801-1669924800-1669932000@www.swissglam.ch
SUMMARY:Der Nussknacker -Ballet
DESCRIPTION:Don’t miss out on the breathtaking Nussknacker Ballet.
URL:https://www.swissglam.ch/events-tickets/der-nussknacker-ballet/
LOCATION:Volkshaus\, Stauffacherstrasse 60\, ZÜRIC\, 8004\, Switzerland
CATEGORIES:Culture,Dance
ATTACH;FMTTYPE=image/jpeg:https://www.swissglam.ch/wp-content/uploads/2022/10/der-nussknacker-tickets-2022-zetia-v2.jpg
END:VEVENT
BEGIN:VEVENT
DTSTART;VALUE=DATE:20221128
DTEND;VALUE=DATE:20221231
DTSTAMP:20260422T095412
CREATED:20221128T095941Z
LAST-MODIFIED:20221128T095941Z
UID:25552-1669593600-1672444799@www.swissglam.ch
SUMMARY:ILLUMINARIUM - Landes Museum Zurich
DESCRIPTION:When: November 10\, 2022 – December 30\, 2022 \nClosed: December 24 and 25 \nSHOW \nOpening hours Sunday to Tuesday: 17:00 to 21:00 \nOpening hours Wednesday to Saturday: 17:00 to 22:00 \nShow duration: 25min \nAdmission Show: 17:00 / 17:45 / 18:30 / 19:15 / 20:00 / 20:30 / 21:00 / 21:30
URL:https://www.swissglam.ch/events-tickets/illuminarium-landes-museum-zurich/
LOCATION:Landesmuseum\, Museumstrasse 2\, Zurich\, 8001\, Switzerland
CATEGORIES:Culture,Food&More
ATTACH;FMTTYPE=image/png:https://www.swissglam.ch/wp-content/uploads/2022/11/Screenshot-2022-11-28-at-10.58.50.png
END:VEVENT
BEGIN:VEVENT
DTSTART;VALUE=DATE:20221128
DTEND;VALUE=DATE:20221224
DTSTAMP:20260422T095412
CREATED:20221128T095557Z
LAST-MODIFIED:20221128T095557Z
UID:25549-1669593600-1671839999@www.swissglam.ch
SUMMARY:Singing Christmas Tree
DESCRIPTION:The enthusiasm of the singers on the Christmas tree can be felt by all. Thousands of small and large visitors from Zurich and the surrounding area appreciate the incomparable atmosphere around the concerts.
URL:https://www.swissglam.ch/events-tickets/singing-christmas-tree/
CATEGORIES:Culture
ATTACH;FMTTYPE=image/png:https://www.swissglam.ch/wp-content/uploads/2022/11/Screenshot-2022-11-28-at-10.51.38.png
END:VEVENT
BEGIN:VEVENT
DTSTART;VALUE=DATE:20221127
DTEND;VALUE=DATE:20221225
DTSTAMP:20260422T095412
CREATED:20221127T132034Z
LAST-MODIFIED:20221127T132034Z
UID:25513-1669507200-1671926399@www.swissglam.ch
SUMMARY:Jelmoli Märlitram
DESCRIPTION:The popular Jelmoli Märlitram is on the road again from November 25 to December 24\, traveling through downtown Zurich with Santa Claus and two angels.
URL:https://www.swissglam.ch/events-tickets/jelmoli-marlitram/
LOCATION:Bellevue Zurich\, Sechseläutenplatz\, Zürich\, ZH\, 8001\, Switzerland
CATEGORIES:Culture
ATTACH;FMTTYPE=image/jpeg:https://www.swissglam.ch/wp-content/uploads/2022/11/image002.jpg
END:VEVENT
BEGIN:VEVENT
DTSTART;TZID=UTC:20221126T190000
DTEND;TZID=UTC:20221126T233000
DTSTAMP:20260422T095412
CREATED:20220927T213927Z
LAST-MODIFIED:20220927T214036Z
UID:24499-1669489200-1669505400@www.swissglam.ch
SUMMARY:Polyball 2022
DESCRIPTION:PHARAOHS\, MUMMIES\, THREE-THOUSAND-YEAR-OLD MAGNIFICENT TOMBS\, LOTS OF GLITTER & GOLD\, PYRAMIDS\, TEMPLES\, SPHINXES\, AND ALL TO BE FOUND UNDER ONE ROOF. IMMERSE YOURSELF IN THE MYSTICAL AND STILL LARGELY UNDISCOVERED WORLD OF ANCIENT EGYPT AND EXPERIENCE A GLORIOUS NIGHT AT THE POLYBALL 2022 “DANCE IN THE VALLEY OF THE KINGS”\, ON NOVEMBER 26. MAKE AN UNFORGETTABLE JOURNEY INTO THE WORLD OF THE LEGENDARY TIME OF THE PHARAOHS AND BE THERE WHEN THE ETH MAIN BUILDING BECOMES A SHOWPLACE FOR TUTANKHAMUN\, CLEOPATRA\, CAMELS AND MUCH MORE. \nTHERE WILL BE THE RIGHT MUSIC FOR EVERYONE TO GIVE FREE REIN TO THEIR DESIRE TO DANCE. EVEN THE LESS DANCE-LOVING AMONG OUR GUESTS WILL GET THEIR MONEY’S WORTH ON THIS FABULOUS EVENING. CULINARY HIGHLIGHTS WITH NUMEROUS STALLS\, FUN IN THE CASINO OR CINEMA\, AS WELL AS A VISIT TO A COMEDY SHOW OFFER SOMETHING FOR EVERY TASTE. \n 
URL:https://www.swissglam.ch/events-tickets/polyball-2022/
LOCATION:ETH Zurich\, Rämistrasse 101\, Zürich\, ZH\, 8092 \, Switzerland
CATEGORIES:Culture,Dance
ATTACH;FMTTYPE=image/png:https://www.swissglam.ch/wp-content/uploads/2022/09/Screenshot-2022-09-27-at-23.36.05.png
END:VEVENT
BEGIN:VEVENT
DTSTART;VALUE=DATE:20221104
DTEND;VALUE=DATE:20221121
DTSTAMP:20260422T095412
CREATED:20221102T193850Z
LAST-MODIFIED:20221102T193850Z
UID:25021-1667520000-1668988799@www.swissglam.ch
SUMMARY:Honold Schoggi-Tram
DESCRIPTION:Take a Tram ride in the Honold Schoggi-Tram for the sweetest experience!
URL:https://www.swissglam.ch/events-tickets/honold-schoggi-tram/
LOCATION:Bellevue Zurich\, Sechseläutenplatz\, Zürich\, ZH\, 8001\, Switzerland
CATEGORIES:Culture
ATTACH;FMTTYPE=image/jpeg:https://www.swissglam.ch/wp-content/uploads/2022/11/Webaufnahme_2-11-2022_203815_www.eventim-light.com_.jpeg
END:VEVENT
BEGIN:VEVENT
DTSTART;TZID=UTC:20221001T200000
DTEND;TZID=UTC:20221001T233000
DTSTAMP:20260422T095412
CREATED:20220927T215855Z
LAST-MODIFIED:20220927T215855Z
UID:24508-1664654400-1664667000@www.swissglam.ch
SUMMARY:Kunsthaus Ball "The Roaring Twenties"
DESCRIPTION:Big costume ball in the new Chipperfield building. With live band and Djs and opportunity to visit the collections on the 1st floor (Merzbacher\, Looser\, Kunsthaus and Pixelwald). \nMeeting point: entrance Chipperfield-Bau \n 
URL:https://www.swissglam.ch/events-tickets/kunsthaus-ball-the-roaring-twenties/
LOCATION:Kunsthaus Zurich\, Heimplatz 1\, Zurich\, 8001\, Switzerland
CATEGORIES:Culture,Dance
ATTACH;FMTTYPE=image/jpeg:https://www.swissglam.ch/wp-content/uploads/2022/09/KH_ROARING_20s_Ball_1536x768_Heade.2e16d0ba.fill-900x675-1.jpg
END:VEVENT
BEGIN:VEVENT
DTSTART;TZID=UTC:20220924T190000
DTEND;TZID=UTC:20220924T220000
DTSTAMP:20260422T095412
CREATED:20220819T191637Z
LAST-MODIFIED:20220819T191637Z
UID:23598-1664046000-1664056800@www.swissglam.ch
SUMMARY:Europaeische Kulturpreisgala Tonhalle Zurich
DESCRIPTION:The Tonhalle Orchestra Zurich paints special sound pictures that come together to form beautiful musical images. Together with the Tonhalle Zurich\, they form a very special painting. The perfect setting to present this year’s European Cultural Awards in one of Europe’s most beautiful concert halls.\nOn stage\, alongside the Tonhalle Orchestra Zurich under the baton of its Music Director Paavo Järvi\, will be world-class artists such as star violinist Nigel Kennedy\, bass-baritone Sir Bryn Terfel\, cellist Sol Gabetta\, soprano Camilla Nylund\, actors Claudia Cardinale\, Iris Berben and Mario Adorf\, pop duo Yello and rock band Die Toten Hosen\, who will be performing together with the Tonhalle Orchestra Zurich for the first time. \nPresenter Max Moor\, SFR director Nathalie Wappler\, Fair Fashion ambassador Barbara Meier and the director of the Zurich Opera House\, Andreas Homoki\, have confirmed their attendance as presenters. The gala will be hosted by Swiss TV presenter Sandra Studer and culture columnist Axel Brüggemann. \n 
URL:https://www.swissglam.ch/events-tickets/europaeische-kulturpreisgala-tonhalle-zurich/
LOCATION:Tonhalle Zürich\, Claridenstrasse 7\, Zurich\, 8002\, Switzerland
CATEGORIES:Culture,Music
ATTACH;FMTTYPE=image/png:https://www.swissglam.ch/wp-content/uploads/2022/08/Screenshot-2022-08-19-at-21.12.11.png
END:VEVENT
END:VCALENDAR