BEGIN:VCALENDAR
VERSION:2.0
PRODID:-//SwissGlam.ch - ECPv6.15.17.1//NONSGML v1.0//EN
CALSCALE:GREGORIAN
METHOD:PUBLISH
X-ORIGINAL-URL:https://www.swissglam.ch
X-WR-CALDESC:Events for SwissGlam.ch
REFRESH-INTERVAL;VALUE=DURATION:PT1H
X-Robots-Tag:noindex
X-PUBLISHED-TTL:PT1H
BEGIN:VTIMEZONE
TZID:Europe/Zurich
BEGIN:DAYLIGHT
TZOFFSETFROM:+0100
TZOFFSETTO:+0200
TZNAME:CEST
DTSTART:20230326T010000
END:DAYLIGHT
BEGIN:STANDARD
TZOFFSETFROM:+0200
TZOFFSETTO:+0100
TZNAME:CET
DTSTART:20231029T010000
END:STANDARD
BEGIN:DAYLIGHT
TZOFFSETFROM:+0100
TZOFFSETTO:+0200
TZNAME:CEST
DTSTART:20240331T010000
END:DAYLIGHT
BEGIN:STANDARD
TZOFFSETFROM:+0200
TZOFFSETTO:+0100
TZNAME:CET
DTSTART:20241027T010000
END:STANDARD
BEGIN:DAYLIGHT
TZOFFSETFROM:+0100
TZOFFSETTO:+0200
TZNAME:CEST
DTSTART:20250330T010000
END:DAYLIGHT
BEGIN:STANDARD
TZOFFSETFROM:+0200
TZOFFSETTO:+0100
TZNAME:CET
DTSTART:20251026T010000
END:STANDARD
BEGIN:DAYLIGHT
TZOFFSETFROM:+0100
TZOFFSETTO:+0200
TZNAME:CEST
DTSTART:20260329T010000
END:DAYLIGHT
BEGIN:STANDARD
TZOFFSETFROM:+0200
TZOFFSETTO:+0100
TZNAME:CET
DTSTART:20261025T010000
END:STANDARD
BEGIN:DAYLIGHT
TZOFFSETFROM:+0100
TZOFFSETTO:+0200
TZNAME:CEST
DTSTART:20270328T010000
END:DAYLIGHT
BEGIN:STANDARD
TZOFFSETFROM:+0200
TZOFFSETTO:+0100
TZNAME:CET
DTSTART:20271031T010000
END:STANDARD
END:VTIMEZONE
BEGIN:VEVENT
DTSTART;VALUE=DATE:20260319
DTEND;VALUE=DATE:20260322
DTSTAMP:20260424T002815
CREATED:20251114T200149Z
LAST-MODIFIED:20251114T200149Z
UID:38100-1773878400-1774137599@www.swissglam.ch
SUMMARY:Sunlce Festival St. Moritz 2026
DESCRIPTION:Indulge the full Sunlce winter experience with activities at and around the Festival in St. Moritz
URL:https://www.swissglam.ch/events-tickets/sunlce-festival-st-moritz-2026/
LOCATION:ST. MORITZ SEE\,  ST. MORITZ SEE\,  ST. MORITZ\, Graubünden\, Switzerland
CATEGORIES:Party
ATTACH;FMTTYPE=image/png:https://www.swissglam.ch/wp-content/uploads/2025/11/Screenshot-2025-11-14-at-20.58.59.png
END:VEVENT
BEGIN:VEVENT
DTSTART;VALUE=DATE:20260316
DTEND;VALUE=DATE:20260323
DTSTAMP:20260424T002815
CREATED:20260214T175733Z
LAST-MODIFIED:20260214T175733Z
UID:39096-1773619200-1774223999@www.swissglam.ch
SUMMARY:Shapes Festival Leysin 2026
DESCRIPTION:Leysin is the closest ski resort to Geneva\, known for its laid-back vibe and friendly atmosphere. With spectacular ski runs\, breathtaking views of Mont-Blanc and Lake Geneva\, and easy access to nearby thermal baths and Glacier 3000\, Leysin has it all. We’re also still offering the best-value ski + festival experience in the Alps and non-skiers are absolutely welcome too. So come join us in Leysin!\n \nTickets here
URL:https://www.swissglam.ch/events-tickets/shapes-festival-leysin-2026/
LOCATION:Leysin\, Leysin\, 1854\, Switzerland
CATEGORIES:Party
ATTACH;FMTTYPE=image/png:https://www.swissglam.ch/wp-content/uploads/2026/02/Screenshot-2026-02-14-at-18.55.51.png
END:VEVENT
BEGIN:VEVENT
DTSTART;TZID=Europe/Zurich:20260313T220000
DTEND;TZID=Europe/Zurich:20260313T233000
DTSTAMP:20260424T002815
CREATED:20260301T155258Z
LAST-MODIFIED:20260301T155258Z
UID:39168-1773439200-1773444600@www.swissglam.ch
SUMMARY:tonhalleLATE – classic meets electronic
DESCRIPTION:Tickets here
URL:https://www.swissglam.ch/events-tickets/tonhallelate-classic-meets-electronic-2/
LOCATION:Tonhalle Zürich\, Claridenstrasse 7\, Zurich\, 8002\, Switzerland
CATEGORIES:Party
ATTACH;FMTTYPE=image/png:https://www.swissglam.ch/wp-content/uploads/2026/03/Screenshot-2026-03-01-at-16.52.24.png
END:VEVENT
BEGIN:VEVENT
DTSTART;VALUE=DATE:20260306
DTEND;VALUE=DATE:20260309
DTSTAMP:20260424T002815
CREATED:20260301T161537Z
LAST-MODIFIED:20260301T161537Z
UID:39182-1772755200-1773014399@www.swissglam.ch
SUMMARY:VSNZ Winter Arc
DESCRIPTION:
URL:https://www.swissglam.ch/events-tickets/vsnz-winter-arc/
LOCATION:Grindelwald\, Baerplatz\, Grindelwald\, Switzerland
CATEGORIES:Party
ATTACH;FMTTYPE=image/png:https://www.swissglam.ch/wp-content/uploads/2026/03/Screenshot-2026-03-01-at-17.14.34.png
END:VEVENT
BEGIN:VEVENT
DTSTART;VALUE=DATE:20251231
DTEND;VALUE=DATE:20260102
DTSTAMP:20260424T002815
CREATED:20251109T095912Z
LAST-MODIFIED:20251109T095912Z
UID:38056-1767139200-1767311999@www.swissglam.ch
SUMMARY:Stellar New Year’s Eve Stay - Bürgenstock Resort
DESCRIPTION:A celestial stay with sky-high dining and the Stardust & Supernova Party\n\n\n\n\n\nA NYE for gastropods\, stargazers and partygoers \nHigh above Lake Lucerne\, one star shimmers with eternal brilliance\, Bürgenstock Resort. Join us for minimum three nights under celestial skies and a stellar New Year’s Eve. For a luminous start to the final night of the year\, reserve dinner in one of five restaurants\, with spectacular menus created by our fabulous constellation of chefs. For midnight celebrations\, guests are invited to a once-in-a-lifetime mission with intergalactic entertainment. Step through the cosmic portal to join fellow night sky adventurers at our Stardust & Supernova Party. Dress code is cosmic black tie\, stardust gowns and futurist fashion. \nMinimum three nights in a scenic room at Bürgenstock Resort Lake Lucerne\, including the night of 31st December
URL:https://www.swissglam.ch/events-tickets/stellar-new-years-eve-stay-burgenstock-resort/
LOCATION:Bürgenstock Hotels & Resort\, Obbürgen\, 6363\, Switzerland
CATEGORIES:Party
ATTACH;FMTTYPE=image/png:https://www.swissglam.ch/wp-content/uploads/2025/11/Screenshot-2025-11-09-at-10.58.02.png
END:VEVENT
BEGIN:VEVENT
DTSTART;VALUE=DATE:20251205
DTEND;VALUE=DATE:20251207
DTSTAMP:20260424T002815
CREATED:20251027T105123Z
LAST-MODIFIED:20251027T105123Z
UID:37920-1764892800-1765065599@www.swissglam.ch
SUMMARY:Verve Festival - Andermatt 2025
DESCRIPTION:Line up and all the infos here
URL:https://www.swissglam.ch/events-tickets/verve-festival-andermatt-2025/
LOCATION:Andermatt\, 6490\, Switzerland
CATEGORIES:Party
ATTACH;FMTTYPE=image/png:https://www.swissglam.ch/wp-content/uploads/2025/10/Screenshot-2025-10-27-at-11.50.10.png
END:VEVENT
BEGIN:VEVENT
DTSTART;TZID=Europe/Zurich:20251025T210000
DTEND;TZID=Europe/Zurich:20251025T233000
DTSTAMP:20260424T002815
CREATED:20250919T154933Z
LAST-MODIFIED:20250919T154933Z
UID:37445-1761426000-1761435000@www.swissglam.ch
SUMMARY:Hanselmann's Season Of The Witch – Halloween Kaufleuten Zürich
DESCRIPTION:Die spektakulärste Halloween Party der Schweiz. \nSamstag\, 25.10.2025\n\n\nTür-/Kassenöffnung: 21:00\nEnde: 05:00\n\n\n\n\nVeranstaltungsort: Klubsaal
URL:https://www.swissglam.ch/events-tickets/hanselmanns-season-of-the-witch-halloween-kaufleuten-zurich/
LOCATION:Kaufleuten Club\, Pelikanstrasse 18\, Zurich\, 8001\, Switzerland
CATEGORIES:Party
ATTACH;FMTTYPE=image/png:https://www.swissglam.ch/wp-content/uploads/2025/09/Screenshot-2025-09-19-at-17.46.26.png
END:VEVENT
BEGIN:VEVENT
DTSTART;VALUE=DATE:20250918
DTEND;VALUE=DATE:20250921
DTSTAMP:20260424T002815
CREATED:20250802T175946Z
LAST-MODIFIED:20250802T175946Z
UID:37060-1758153600-1758412799@www.swissglam.ch
SUMMARY:SunIce Festival Ascona
DESCRIPTION:Experience the ecstatic atmosphere of Mediterranean Ticino and rhythmic energy at the 2nd Summer Edition of SunIce Festival. \nLineup is here
URL:https://www.swissglam.ch/events-tickets/sunice-festival-ascona-2/
LOCATION:Lido Ascona\, Via Lido 84\, Ascona\, 6612\, Switzerland
CATEGORIES:Openair,Party
ATTACH;FMTTYPE=image/png:https://www.swissglam.ch/wp-content/uploads/2025/08/Screenshot-2025-08-02-at-19.53.38.png
END:VEVENT
BEGIN:VEVENT
DTSTART;TZID=Europe/Zurich:20250906T140000
DTEND;TZID=Europe/Zurich:20250906T220000
DTSTAMP:20260424T002815
CREATED:20250601T174551Z
LAST-MODIFIED:20250601T174551Z
UID:36315-1757167200-1757196000@www.swissglam.ch
SUMMARY:Sauvage - Zurich Airport Party
DESCRIPTION:The day party at Zurich Airport is happening on September 6th\, 2025. \nSaturday September 6th 2025\n2pm – 10pm – at Zurich Airport\nGet your Tickets here \nIn 2025\, Sauvage returns to Zurich Airport for another unforgettable event. On September 6\, 2025\, the party series takes over one of Zurich’s most spectacular terraces. The Zurich-based label\, known for its high-end events at venues like Halle 622\, Kunsthaus\, Gessnerallee\, and Werft Wollishofen\, continues to set the bar for extraordinary experiences.
URL:https://www.swissglam.ch/events-tickets/sauvage-zurich-airport-party/
LOCATION:Zurich Airport\, Überland Str. 25\, Dübendorf\, 8600\, Switzerland
CATEGORIES:Party
ATTACH;FMTTYPE=image/jpeg:https://www.swissglam.ch/wp-content/uploads/2025/06/327153254_707733800831112_5083365048195109731_n.jpg
END:VEVENT
BEGIN:VEVENT
DTSTART;TZID=Europe/Zurich:20250823T130000
DTEND;TZID=Europe/Zurich:20250823T220000
DTSTAMP:20260424T002815
CREATED:20250704T122556Z
LAST-MODIFIED:20250704T122556Z
UID:36795-1755954000-1755986400@www.swissglam.ch
SUMMARY:THE VIEW w/ ANOTR Party
DESCRIPTION:Get ready for the crowd’s favorite venue to return\, The View on the Top of Zurich at Uto Kulm\, featuring the coolest duo\, Anotr\, for an unforgettable show this season. \nVIPs and hotel guests get access to an exclusive afterparty at the Uto Kulm glasshouse. \nFor safety reasons\, we kindly request that you arrive at the designated entrance time. Please note that arriving outside your assigned time slot may incur an additional fee. Thank you for your understanding and cooperation.
URL:https://www.swissglam.ch/events-tickets/the-view-w-anotr-party/
LOCATION:UTO KULM\, Uetliberg\, Zurich\, 8143\, Switzerland
CATEGORIES:Party
ATTACH;FMTTYPE=image/png:https://www.swissglam.ch/wp-content/uploads/2025/07/Screenshot-2025-07-04-at-14.24.56.png
END:VEVENT
BEGIN:VEVENT
DTSTART;VALUE=DATE:20250822
DTEND;VALUE=DATE:20250831
DTSTAMP:20260424T002815
CREATED:20250112T103906Z
LAST-MODIFIED:20250416T221834Z
UID:34983-1755820800-1756598399@www.swissglam.ch
SUMMARY:Zürich Openair 2025
DESCRIPTION:ZÜRICH OPENAIR\n\nWeekend 1: 22. & 23. August 2025\nWeekend 2: 29. & 30. August 2025\n\nLINE-UP \nFREITAG  22. AUGUST 2025 \nTIËSTO\nNINA CHUBA\nSDP\nWORAKLS ORCHESTRA\nUFO361\nBENJAMIN AMARU\nTO ATHENA \nSAMSTAG 23. AUGUST 2025 \nANYMA\nEMPIRE OF THE SUN\nSCOOTER\nPATENT OCHSNER\nENNIO\nDODO\nMILUNE \nFREITAG 29. AUGUST 2025 \nPOST MALONE\nRITA ORA\nBORIS BREJCHA\n01099\nJELLY ROLL\nLEILA\nEDB \nSAMSTAG 30. AUGUST 2025 \nAPACHE 207\nDEICHKIND\nTHE PRODIGY\nREEZY\nHECHT\nMANILLIO\nZIAN\nLOU KAENA
URL:https://www.swissglam.ch/events-tickets/zurich-openair-2025/
LOCATION:Dübendorf\, Überland Str. 255\, Dübendorf\, 8600\, Switzerland
CATEGORIES:Openair,Party
ATTACH;FMTTYPE=image/jpeg:https://www.swissglam.ch/wp-content/uploads/2025/01/409959969_887451019417960_636070491664207371_n.jpg
END:VEVENT
BEGIN:VEVENT
DTSTART;TZID=Europe/Zurich:20250809T130000
DTEND;TZID=Europe/Zurich:20250809T210000
DTSTAMP:20260424T002815
CREATED:20250804T124724Z
LAST-MODIFIED:20250804T124724Z
UID:37078-1754744400-1754773200@www.swissglam.ch
SUMMARY:Bellerive Day Rave Heaven Au Lac 2025
DESCRIPTION:This year’s celebration at AMERON Zürich Bellerive au Lac embraces the theme “Heaven au Lac.”Angel wings\, glitter\, ethereal sounds\, and a heavenly atmosphere await guests for an unforgettable experience at the heart of the Street Parade. \n✨ The invitation includes:– VIP Warm-Up Apéro from 12:00 with a Welcome Drink “Angel’s Kiss” and flying appetisers– “Cloud 9” Buffet with celestial creations by Studio Bellerive– DJ sets featuring deep & heavenly house beats– Access to the exclusive terrace with a direct view of the parade– “Heaven au Lac” photo zone for unique memories– A “Halo Station” for perfecting your parade look \nAn elevated summer celebration on Lake Zurich\, curated by AMERON Zürich Bellerive au Lac.
URL:https://www.swissglam.ch/events-tickets/bellerive-day-rave-heaven-au-lac-2025/
LOCATION:AMERON Zürich Bellerive au Lac\, Utoquai 47\, Zürich\, 8008\, Switzerland
CATEGORIES:Party
ATTACH;FMTTYPE=image/jpeg:https://www.swissglam.ch/wp-content/uploads/2025/08/image001.jpg
END:VEVENT
BEGIN:VEVENT
DTSTART;TZID=Europe/Zurich:20250809T120000
DTEND;TZID=Europe/Zurich:20250809T233000
DTSTAMP:20260424T002815
CREATED:20250112T104653Z
LAST-MODIFIED:20250115T001121Z
UID:34986-1754740800-1754782200@www.swissglam.ch
SUMMARY:Street Parade 2025
DESCRIPTION:
URL:https://www.swissglam.ch/events-tickets/street-parade-2025/
LOCATION:Zurich city centre\, Zurich\, Switzerland
CATEGORIES:Music,Openair,Party
ATTACH;FMTTYPE=image/jpeg:https://www.swissglam.ch/wp-content/uploads/2025/01/407393911_882333229927116_5311639397505768989_n.jpg
END:VEVENT
BEGIN:VEVENT
DTSTART;TZID=Europe/Zurich:20250801T130000
DTEND;TZID=Europe/Zurich:20250801T233000
DTSTAMP:20260424T002815
CREATED:20250619T125949Z
LAST-MODIFIED:20250619T125949Z
UID:36558-1754053200-1754091000@www.swissglam.ch
SUMMARY:THE PARK w Rampa & Adam Port *Keinemusik*
DESCRIPTION:
URL:https://www.swissglam.ch/events-tickets/the-park-w-rampa-adam-port-keinemusik/
LOCATION:Bernerstrasse / Hardturmstrasse\, Zurich\, Switzerland
CATEGORIES:Party
ATTACH;FMTTYPE=image/png:https://www.swissglam.ch/wp-content/uploads/2025/06/Screenshot-2025-06-19-at-14.55.08.png
END:VEVENT
BEGIN:VEVENT
DTSTART;VALUE=DATE:20250716
DTEND;VALUE=DATE:20250720
DTSTAMP:20260424T002815
CREATED:20250112T105033Z
LAST-MODIFIED:20250112T105033Z
UID:34989-1752624000-1752969599@www.swissglam.ch
SUMMARY:Gurtenfestival 2025
DESCRIPTION:
URL:https://www.swissglam.ch/events-tickets/gurtenfestival-2025/
CATEGORIES:Openair,Party
ATTACH;FMTTYPE=image/jpeg:https://www.swissglam.ch/wp-content/uploads/2025/01/465597921_938918388268880_1627319198373474525_n.jpg
END:VEVENT
BEGIN:VEVENT
DTSTART;TZID=Europe/Zurich:20250705T140000
DTEND;TZID=Europe/Zurich:20250705T220000
DTSTAMP:20260424T002815
CREATED:20250619T124216Z
LAST-MODIFIED:20250619T124216Z
UID:36551-1751724000-1751752800@www.swissglam.ch
SUMMARY:Unashamed Dayparty - Herrliberg
DESCRIPTION:Unashamed Dayparty in Herrliberg | House & Techno Partys \nDJ Cruz & Friends invite you to indulge at the lake! Where sun-soaked elegance\, and vibrant music come together for an unforgettable afternoon. \nSurrounded by beautiful people\, chilled drinks\, and timeless beats\, we’ll celebrate the art of living well- the true essence of La Dolce Vita! \n  \n🚤 Boat Tickets\nThe package includes a chilled bucket filled with alcoholic and non-alcoholic drinks to enjoy with your friends on the boat. \n🌧 Weather Policy\nIf it rains on Saturday\, July 5th\, your ticket will automatically be valid for the postponement date: Saturday\, July 12th\, 2025. \nUnashamed Day Party\nSaturday\, July 5th\, 2025\nPostponement date: Saturday\, July 12th\, 2025\nStrozzi’s\, Herrliberg\n2 PM – 10 PM | Age 21+\nEntry: CHF 89.–\nDress code: Cool & Classy
URL:https://www.swissglam.ch/events-tickets/unashamed-dayparty-herrliberg/
LOCATION:Strozzi’s Strandhaus\, Seestrasse 146\, Herrliberg\, 8704\, Switzerland
CATEGORIES:Party
ATTACH;FMTTYPE=image/png:https://www.swissglam.ch/wp-content/uploads/2025/06/Screenshot-2025-06-19-at-14.40.09.png
END:VEVENT
BEGIN:VEVENT
DTSTART;TZID=Europe/Zurich:20250621T150000
DTEND;TZID=Europe/Zurich:20250621T223000
DTSTAMP:20260424T002815
CREATED:20250601T191436Z
LAST-MODIFIED:20250601T191511Z
UID:36330-1750518000-1750545000@www.swissglam.ch
SUMMARY:VSNZ at THE WALL
DESCRIPTION:Experience the harmony of music and nature as day turns to evening at the iconic Eiger North Face. Surrounded by stunning alpine vistas\, this unique event promises unforgettable moments in an extraordinary setting. \nThis is The Wall. Dance in a place that feels otherworldly – a transformative experience where sound and altitude collide. \nCHECK-IN: Saturday\, June 21st / 15:00 – 16:30 Terminal Grindelwald 
URL:https://www.swissglam.ch/events-tickets/vsnz-at-the-wall/
LOCATION:Grindelwald\, Baerplatz\, Grindelwald\, Switzerland
CATEGORIES:Openair,Party
ATTACH;FMTTYPE=image/png:https://www.swissglam.ch/wp-content/uploads/2025/06/Screenshot-2025-06-01-at-21.14.20.png
END:VEVENT
BEGIN:VEVENT
DTSTART;VALUE=DATE:20250418
DTEND;VALUE=DATE:20250420
DTSTAMP:20260424T002815
CREATED:20250101T144823Z
LAST-MODIFIED:20250101T144823Z
UID:34848-1744934400-1745107199@www.swissglam.ch
SUMMARY:Insomnia Festival 2025
DESCRIPTION:
URL:https://www.swissglam.ch/events-tickets/insomnia-festival-2025/
LOCATION:Messe Zürich\, Thurgauerstrasse 7\, Zurich\, Zurich\, 8050\, Switzerland
CATEGORIES:Party
ATTACH;FMTTYPE=image/png:https://www.swissglam.ch/wp-content/uploads/2025/01/Screenshot-2025-01-01-at-15.44.28.png
END:VEVENT
BEGIN:VEVENT
DTSTART;VALUE=DATE:20250412
DTEND;VALUE=DATE:20250414
DTSTAMP:20260424T002815
CREATED:20250408T205603Z
LAST-MODIFIED:20250408T205603Z
UID:35855-1744416000-1744588799@www.swissglam.ch
SUMMARY:Snow Vibes Festival 2025 Nendaz
DESCRIPTION:Music Festival in the heart of the Alps
URL:https://www.swissglam.ch/events-tickets/snow-vibes-festival-2025-nendaz/
LOCATION:Nendaz\, Switzerland
CATEGORIES:Party
ATTACH;FMTTYPE=image/png:https://www.swissglam.ch/wp-content/uploads/2025/04/Screenshot-2025-04-08-at-22.53.30.png
END:VEVENT
BEGIN:VEVENT
DTSTART;VALUE=DATE:20250404
DTEND;VALUE=DATE:20250407
DTSTAMP:20260424T002815
CREATED:20250218T225507Z
LAST-MODIFIED:20250218T225507Z
UID:35284-1743724800-1743983999@www.swissglam.ch
SUMMARY:LIVE is LIFE | Festival Arosa Lenzerheide 2025
DESCRIPTION:‘LIVE IS LIFE’ 2025\nFrom 4 to 6 April 2025\, the Arosa Lenzerheide ski resort will once again be transformed into a unique stage for music fans and snow sports enthusiasts. For the sixth time\, the ‘LIVE is LIFE’ festival will bring people together with its unrivalled mix of top-class live concerts\, stunning mountain scenery and a convivial atmosphere. From rock and hip-hop to electro swing and singer-songwriter sounds – this festival offers the right tune for every taste. \nLine Up is here
URL:https://www.swissglam.ch/events-tickets/live-is-life-festival-arosa-lenzerheide-2025/
LOCATION:Lenzerheide\, Switzerland
CATEGORIES:Openair,Party
ATTACH;FMTTYPE=image/png:https://www.swissglam.ch/wp-content/uploads/2025/02/Screenshot-2025-02-18-at-23.50.59.png
END:VEVENT
BEGIN:VEVENT
DTSTART;VALUE=DATE:20250404
DTEND;VALUE=DATE:20250414
DTSTAMP:20260424T002815
CREATED:20250112T103248Z
LAST-MODIFIED:20250112T103248Z
UID:34980-1743724800-1744588799@www.swissglam.ch
SUMMARY:Caprices Festival 2025
DESCRIPTION:04 – 06 APRIL \n\nARODES • BEN UFO • BLACK COFFEE • BLAME ANTHONY B2B THABO • CASSY • CESAR MERVEILLE • CINCITY •COLYN • DAN GHENACIA • EAST END DUBS • EPSYLON • I HATE MODELS • JAMIE JONES • MARCO CAROLA •MITA GAMI • NIC FANCIULLI B2B FRANKY RIZARDO • OGAZON B2B RYAN ELLIOTT • PARFAIT • PERSIC •PROSPA • ROLBAC • RÕSE • SAMSÖN • SETH TROXLER • SHANTI CELESTE • SHIMZA • SPARROW & BARBOSSA• VINTAGE CULTURE \n11-13 APRIL \n\nADRIATIQUE • ALCI B2B GESCU • ALEX WANN • BALOO • CORA M • DAUGHTER IN LAW • DJERRY C • DR BANANA B2B MELODY • DVS1 • ENZO SIRAGUSA • EVGHENIIA • FATIMA HAJJI • GENE ON EARTH • GIORGIO MAULINI • GUTI (live) • JOSEPH CAPRIATI • LUCIANO • MATEO DUFOUR • MATHEW JONSON (live) • MIGUELLE & TONS • MONT ROUGE • NINA KRAVIZ • OMAKS • PACO OSUNA • PHILIPPA PACHO • RICARDO VILLALOBOS B2B RARESH • RŌSE B2B ELINA • ROSSI • SHLØMO • SONJA MOONEAR B2B CRAIG RICHARDS • TRAUMER+ more to be announced
URL:https://www.swissglam.ch/events-tickets/caprices-festival-2025/
LOCATION:Crans-Montana\, Crans-Montana\, Switzerland
CATEGORIES:Party
ATTACH;FMTTYPE=image/png:https://www.swissglam.ch/wp-content/uploads/2025/01/Screenshot-2025-01-12-at-11.29.47.png
END:VEVENT
BEGIN:VEVENT
DTSTART;TZID=Europe/Zurich:20250315T203000
DTEND;TZID=Europe/Zurich:20250315T233000
DTSTAMP:20260424T002815
CREATED:20241014T212022Z
LAST-MODIFIED:20241014T212022Z
UID:33984-1742070600-1742081400@www.swissglam.ch
SUMMARY:Overdress! Costume Party Zurich Opera House
DESCRIPTION:It’s a party that’s already very nearly legendary – the Opernhaus has already been astounded with exuberant creativity\, impressive celebratory frenzy and unbridled joie de vivre at the costume party. In our humble opinion\, it’s the greatest party ever! Join us one last time\, when it’s time to «overdress!» at the Opernhaus to dance and party to great live bands and DJs on our stages. Come dressed as a shiny disco ball\, a Disney princess or a decimal number and dive into an evening that will go down as one for the history books.
URL:https://www.swissglam.ch/events-tickets/overdress-costume-party-zurich-opera-house/
LOCATION:Opernhaus Zurich\, Falkenstrasse 1\, Zurich\, 8008\, Switzerland
CATEGORIES:Party
ATTACH;FMTTYPE=image/png:https://www.swissglam.ch/wp-content/uploads/2024/10/Screenshot-2024-10-14-at-23.16.01.png
END:VEVENT
BEGIN:VEVENT
DTSTART;TZID=Europe/Zurich:20250131T220000
DTEND;TZID=Europe/Zurich:20250131T233000
DTSTAMP:20260424T002815
CREATED:20250113T123624Z
LAST-MODIFIED:20250113T123624Z
UID:35008-1738360800-1738366200@www.swissglam.ch
SUMMARY:PAUL VAN DYK 2025 Zurich
DESCRIPTION:
URL:https://www.swissglam.ch/events-tickets/paul-van-dyk-2025-zurich/
LOCATION:Kaufleuten Club\, Pelikanstrasse 18\, Zurich\, 8001\, Switzerland
CATEGORIES:Party
ATTACH;FMTTYPE=image/png:https://www.swissglam.ch/wp-content/uploads/2025/01/Screenshot-2025-01-13-at-13.35.08.png
END:VEVENT
BEGIN:VEVENT
DTSTART;VALUE=DATE:20241231
DTEND;VALUE=DATE:20250102
DTSTAMP:20260424T002815
CREATED:20241113T202354Z
LAST-MODIFIED:20241113T202354Z
UID:34344-1735603200-1735775999@www.swissglam.ch
SUMMARY:News Year's Eve Gala Park Hotel Vitznau
DESCRIPTION:Spend unforgettable days around New Year’s Eve at the exclusive Park Hotel Vitznau!\nBe enchanted by extraordinary artists\, immerse yourself in a world of fascination and indulgence\, and don’t miss the spectacular fireworks at midnight  \nfrom 495 CHF
URL:https://www.swissglam.ch/events-tickets/news-years-eve-gala-park-hotel-vitznau/
LOCATION:Park Hotel Vitznau\, Seestrasse 18\, Vitznau\, 6354\, Switzerland
CATEGORIES:Party
ATTACH;FMTTYPE=image/png:https://www.swissglam.ch/wp-content/uploads/2024/11/Screenshot-2024-11-13-at-17.18.54.png
END:VEVENT
BEGIN:VEVENT
DTSTART;TZID=Europe/Zurich:20241207T230000
DTEND;TZID=Europe/Zurich:20241208T020000
DTSTAMP:20260424T002815
CREATED:20241031T090434Z
LAST-MODIFIED:20241031T090434Z
UID:34194-1733612400-1733623200@www.swissglam.ch
SUMMARY:We Love Techno  W/ JORIS VOORN
DESCRIPTION:
URL:https://www.swissglam.ch/events-tickets/we-love-techno-w-joris-voorn/
LOCATION:Bierhübeli Bern\, Neubrückstrasse 43\, BERN\, 3012\, Switzerland
CATEGORIES:Party
ATTACH;FMTTYPE=image/png:https://www.swissglam.ch/wp-content/uploads/2024/10/Screenshot-2024-10-31-at-10.01.36.png
END:VEVENT
BEGIN:VEVENT
DTSTART;VALUE=DATE:20241206
DTEND;VALUE=DATE:20241208
DTSTAMP:20260424T002815
CREATED:20241031T160427Z
LAST-MODIFIED:20241031T160427Z
UID:34233-1733443200-1733615999@www.swissglam.ch
SUMMARY:Verve Andermatt 2024
DESCRIPTION:Verve Techno Festival Festival\n06.12.24 & 07.12.2024
URL:https://www.swissglam.ch/events-tickets/verve-andermatt-2024/
LOCATION:Andermatt\, 6490\, Switzerland
CATEGORIES:Party
ATTACH;FMTTYPE=image/png:https://www.swissglam.ch/wp-content/uploads/2024/10/Screenshot-2024-10-31-at-17.00.32.png
END:VEVENT
BEGIN:VEVENT
DTSTART;TZID=Europe/Zurich:20241115T230000
DTEND;TZID=Europe/Zurich:20241115T233000
DTSTAMP:20260424T002815
CREATED:20241015T212115Z
LAST-MODIFIED:20241015T212115Z
UID:34004-1731711600-1731713400@www.swissglam.ch
SUMMARY:ALLE FARBEN Zurich
DESCRIPTION:Alle Farben “Dance With Somebody” Club Tour 2024 \nAm 15.11.2024 ist es endlich wieder so weit: Alle Farben kommt nach Zürich und lädt euch zu einer unvergesslichen Nacht ins legendäre MÄX ein!
URL:https://www.swissglam.ch/events-tickets/alle-farben-zurich/
LOCATION:Mäx Zürich\, Hardstrasse 219\, Zürich\, 8005\, Switzerland
CATEGORIES:Party
ATTACH;FMTTYPE=image/png:https://www.swissglam.ch/wp-content/uploads/2024/10/Screenshot-2024-10-15-at-23.18.18.png
END:VEVENT
BEGIN:VEVENT
DTSTART;TZID=Europe/Zurich:20241108T230000
DTEND;TZID=Europe/Zurich:20241108T233000
DTSTAMP:20260424T002815
CREATED:20240907T161139Z
LAST-MODIFIED:20240907T161139Z
UID:33664-1731106800-1731108600@www.swissglam.ch
SUMMARY:Robin Schulz Zurich
DESCRIPTION:With his very special blend of house\, electro and pop\, Schulz quickly became Germany’s most successful music export and dominated the charts in over 20 countries with numerous #1 hits – sales of over 20 million records and 12 billion streams speak for themselves.
URL:https://www.swissglam.ch/events-tickets/robin-schulz-zurich/
LOCATION:Kaufleuten Club\, Pelikanstrasse 18\, Zurich\, 8001\, Switzerland
CATEGORIES:Party
ATTACH;FMTTYPE=image/png:https://www.swissglam.ch/wp-content/uploads/2024/09/Screenshot-2024-09-07-at-18.09.09.png
END:VEVENT
BEGIN:VEVENT
DTSTART;TZID=Europe/Zurich:20241026T210000
DTEND;TZID=Europe/Zurich:20241026T230000
DTSTAMP:20260424T002815
CREATED:20240907T164033Z
LAST-MODIFIED:20240907T164153Z
UID:33678-1729976400-1729983600@www.swissglam.ch
SUMMARY:Hanselmann's Season of the Witch Halloween Party Zurich
DESCRIPTION:Sei dabei wenn die Season of the Witch zum feiern & gruseln einlädt und der «Würfel» seine Geheimnisse offenbart:\nÜber Jahrhunderte hinweg forschten gläubige Seelen an Theorien und Legenden mit dem Ziel\, Unsterblichkeit zu erlangen. Lange Zeit schien dies nichts als Aberglaube\, doch ein Schweizer Forscher knackte den Code – ein Kubus mit der Macht zur Unsterblichkeit\, verbunden mit ewigem Schmerz. Die Welt\, wie wir sie kannten\, versinkt im Chaos und befindet sich im Kampf gegen eine Armee der Untoten. Tritt ein ins Zeitalter der Zombies\, tanze mit uns auf den Gräbern der Wiederauferstandenen und lebe deine Träume der Unsterblichkeit. \nDieses Halloween werden deine dunkelsten Fantasien zur Realität… An der Season of the Witch. \nVIP-Ticket\n– – – – – – – – – – – – – –\n– Early Entry durch Kaufleuten Lounge/Hinterhof\n– Red Carpet\n– Photospots\n– VIP Apéro 21.00-22.30\n– VIP Area
URL:https://www.swissglam.ch/events-tickets/hanselmanns-season-of-the-witch-halloween-party-zurich/
LOCATION:Kaufleuten Club\, Pelikanstrasse 18\, Zurich\, 8001\, Switzerland
CATEGORIES:Party
ATTACH;FMTTYPE=image/png:https://www.swissglam.ch/wp-content/uploads/2024/09/Screenshot-2024-09-07-at-18.37.06.png
END:VEVENT
BEGIN:VEVENT
DTSTART;VALUE=DATE:20240919
DTEND;VALUE=DATE:20240922
DTSTAMP:20260424T002815
CREATED:20240721T184210Z
LAST-MODIFIED:20240721T184210Z
UID:33007-1726704000-1726963199@www.swissglam.ch
SUMMARY:SunIce Festival Ascona
DESCRIPTION:Dive into the rhythm at the premiere of SunIce Summer Edition as we bring our signature electric atmosphere to the idyllic shores of Ascona. \nExpanding the SunIce experience into the warm month of September\, we invite you to a weekend filled with the world-class Techno beats and Mediterranean adventures. \nThe first SunIce Summer Edition takes place at Lido Ascona\, right at the Lago Maggiore. Cool dips in the water\, standup-paddling\, and water sports are in a few steps reach.
URL:https://www.swissglam.ch/events-tickets/sunice-festival-ascona/
LOCATION:ex Aerodromo Ascona\, Via Aerodromo\, ASCONA\, 6612
CATEGORIES:Musicals,Party
ATTACH;FMTTYPE=image/png:https://www.swissglam.ch/wp-content/uploads/2024/07/291106752_555876382545387_5001014129957860193_n.png
END:VEVENT
END:VCALENDAR