BEGIN:VCALENDAR
VERSION:2.0
PRODID:-//SwissGlam.ch - ECPv6.15.17.1//NONSGML v1.0//EN
CALSCALE:GREGORIAN
METHOD:PUBLISH
X-ORIGINAL-URL:https://www.swissglam.ch
X-WR-CALDESC:Events for SwissGlam.ch
REFRESH-INTERVAL;VALUE=DURATION:PT1H
X-Robots-Tag:noindex
X-PUBLISHED-TTL:PT1H
BEGIN:VTIMEZONE
TZID:Europe/Zurich
BEGIN:DAYLIGHT
TZOFFSETFROM:+0100
TZOFFSETTO:+0200
TZNAME:CEST
DTSTART:20250330T010000
END:DAYLIGHT
BEGIN:STANDARD
TZOFFSETFROM:+0200
TZOFFSETTO:+0100
TZNAME:CET
DTSTART:20251026T010000
END:STANDARD
BEGIN:DAYLIGHT
TZOFFSETFROM:+0100
TZOFFSETTO:+0200
TZNAME:CEST
DTSTART:20260329T010000
END:DAYLIGHT
BEGIN:STANDARD
TZOFFSETFROM:+0200
TZOFFSETTO:+0100
TZNAME:CET
DTSTART:20261025T010000
END:STANDARD
BEGIN:DAYLIGHT
TZOFFSETFROM:+0100
TZOFFSETTO:+0200
TZNAME:CEST
DTSTART:20270328T010000
END:DAYLIGHT
BEGIN:STANDARD
TZOFFSETFROM:+0200
TZOFFSETTO:+0100
TZNAME:CET
DTSTART:20271031T010000
END:STANDARD
END:VTIMEZONE
BEGIN:VEVENT
DTSTART;TZID=Europe/Zurich:20260530T130000
DTEND;TZID=Europe/Zurich:20260530T233000
DTSTAMP:20260423T223849
CREATED:20260301T162548Z
LAST-MODIFIED:20260301T162636Z
UID:39188-1780146000-1780183800@www.swissglam.ch
SUMMARY:THE LAGO w/ Adriatique
DESCRIPTION:THE LAGO w/ Adriatique \nDOORS 13:00 – 00:00 // SOUND UNTIL 23:30 \nENTRY TIME Please make sure to arrive during your selected entry time\, as arrivals outside this time will not be accepted. \nAGE + 20 \nVENUE Lake View Locarno / Via Gioacchino Respini 17 / 6600 Locarno \nNIGHT TRAIN will be running to Zurich after the event. Train ticket is not included in event ticket. 00:01 Locarno – 02:49 Zurich (via Bellinzona / Arth-Goldau / Zug)
URL:https://www.swissglam.ch/events-tickets/the-lago-w-adriatique/
LOCATION:View di Locarno\, Via Gioacchino Respini 17\, Locarno\, 6600\, Switzerland
CATEGORIES:Party
ATTACH;FMTTYPE=image/png:https://www.swissglam.ch/wp-content/uploads/2026/03/Screenshot-2026-03-01-at-17.23.23.png
END:VEVENT
BEGIN:VEVENT
DTSTART;TZID=Europe/Zurich:20260620T140000
DTEND;TZID=Europe/Zurich:20260620T220000
DTSTAMP:20260423T223849
CREATED:20260214T174527Z
LAST-MODIFIED:20260214T174527Z
UID:39087-1781964000-1781992800@www.swissglam.ch
SUMMARY:Sauvage OFF at Zurich Airport 2026
DESCRIPTION:Saturday June 20th 2026 | Age 20+ \nZurich Airport\, Observationdeck B\, Terminal 2 | Start 2am \nLine Up: Will be announced soon \n2026\, Sauvage returns to Zurich Airport for another unforgettable event. On June 20th 2026\, the party series takes over one of Zurich’s most spectacular terraces. \nSmoking is only permitted in the designated areas on the event grounds. \n\nAdmission is restricted to guests aged 20 and over. Please bring a valid photo ID.\nBringing any liquids onto the premises is strictly prohibited.\nAdmission at the door is one-way only (no re-entry).\nThe terminal area of the airport is not intended as a waiting area; we kindly ask all guests to proceed directly to the event site.\nThere are clearly marked trash bins throughout the festival grounds. Please dispose of your waste properly.\nWe recommend arriving by public transportation.\nBad weather backup date: July 07\, 2026\nThere is no cloakroom on site.\nFood and drinks will be available on site.\n\nMore info: https://www.sauvagemusique.ch/ \nQuestions: sauvage@future-events.ch
URL:https://www.swissglam.ch/events-tickets/sauvage-off-at-zurich-airport-2026/
LOCATION:Zurich Airport\, Überland Str. 25\, Dübendorf\, 8600\, Switzerland
CATEGORIES:Party
ATTACH;FMTTYPE=image/png:https://www.swissglam.ch/wp-content/uploads/2026/02/Screenshot-2026-02-14-at-18.44.35.png
END:VEVENT
BEGIN:VEVENT
DTSTART;VALUE=DATE:20260626
DTEND;VALUE=DATE:20260628
DTSTAMP:20260423T223849
CREATED:20260301T162011Z
LAST-MODIFIED:20260301T162011Z
UID:39185-1782432000-1782604799@www.swissglam.ch
SUMMARY:Horse Park Festival
DESCRIPTION:Lineup is here
URL:https://www.swissglam.ch/events-tickets/horse-park-festival/
LOCATION:Pferderennbahn Dielsdorf\, Neeracherstrasse 20\, DIELSDORF\, ZH\, 8157\, Switzerland
CATEGORIES:Party
ATTACH;FMTTYPE=image/jpeg:https://www.swissglam.ch/wp-content/uploads/2026/03/434139501_432929099254308_3665768519447599334_n.jpg
END:VEVENT
END:VCALENDAR